View In:
ArcGIS JavaScript
ArcGIS Online Map Viewer
ArcGIS Earth
ArcMap
View Footprint In:
ArcGIS Online Map Viewer
Service Description: Loudoun County annually obtains leaf-off, aerial imagery in the spring. Since 2004, the County has utilized this imagery to support the development of an annual digital orthophoto base. In 2026, the imagery was captured with a Leica DMC-4X digital camera, in 4-band (R,G,B, and NIR) format. These files contain 1-foot ground-resolution, 8-bit, 4-band orthorectified aerial image map products in GeoTIFF version 6.0 file format. GeoTIFF files are uncompressed raster images complete with TFW coordinate information. The aerial imagery project encompasses the entire land area of the County of Loudoun, VA. Images were flown during leaf-off conditions and cover 5000' by 5000' and are tiled according to the VBMP 200-scale gridding schema (Virginia Geographic Information Network). This annual digital ortho effort is implemented and administered by the Loudoun County Office of Mapping and Geographic Information. While primarily developed to capture annual base planimetric, environmental, and topographic updates throughout the County, the backdrop image can also serve as a reference layer for GIS analysis, Computer-aided Dispatching and E-911 services, Staff planning and development, historical record in land use/land cover change, and has the potential for use in many other public service projects. Data are stored in the corporate ArcSDE Geodatabase as a raster feature class. SDE geodatabase imagery is available in the County's GIS, whereas copies of source files are provided for public distribution.
Name: Aerial/COLOR_2026_CACHED
Description: Loudoun County annually obtains leaf-off, aerial imagery in the spring. Since 2004, the County has utilized this imagery to support the development of an annual digital orthophoto base. In 2026, the imagery was captured with a Leica DMC-4X digital camera, in 4-band (R,G,B, and NIR) format. These files contain 1-foot ground-resolution, 8-bit, 4-band orthorectified aerial image map products in GeoTIFF version 6.0 file format. GeoTIFF files are uncompressed raster images complete with TFW coordinate information. The aerial imagery project encompasses the entire land area of the County of Loudoun, VA. Images were flown during leaf-off conditions and cover 5000' by 5000' and are tiled according to the VBMP 200-scale gridding schema (Virginia Geographic Information Network). This annual digital ortho effort is implemented and administered by the Loudoun County Office of Mapping and Geographic Information. While primarily developed to capture annual base planimetric, environmental, and topographic updates throughout the County, the backdrop image can also serve as a reference layer for GIS analysis, Computer-aided Dispatching and E-911 services, Staff planning and development, historical record in land use/land cover change, and has the potential for use in many other public service projects. Data are stored in the corporate ArcSDE Geodatabase as a raster feature class. SDE geodatabase imagery is available in the County's GIS, whereas copies of source files are provided for public distribution.
Single Fused Map Cache: true
Tile Info:
- Height: 256
- Width: 256
- DPI: 96
-
Levels of Detail: 12
- Format: PNG
- Compression Quality: 0.0
- LERC Error: NaN
- Origin: X: -1.105125E8
Y: 1.551328E8
- Spatial Reference: 2924
(2924)
LatestVCSWkid(0)
Storage Info:
- Storage Format: esriMapCacheStorageModeCompactV2
- Packet Size: 128
Extent:
XMin: 1.163E7
YMin: 6990000.0
XMax: 1.182E7
YMax: 7170000.0
Spatial Reference: 2924
(2924)
LatestVCSWkid(0)
Initial Extent:
XMin: 1.163E7
YMin: 6990000.0
XMax: 1.182E7
YMax: 7170000.0
Spatial Reference: 2924
(2924)
LatestVCSWkid(0)
Full Extent:
XMin: 1.163E7
YMin: 6990000.0
XMax: 1.182E7
YMax: 7170000.0
Spatial Reference: 2924
(2924)
LatestVCSWkid(0)
Pixel Size X: 1.0
Pixel Size Y: 1.0
Band Count: 4
Pixel Type: U8
RasterFunction Infos: {"rasterFunctionInfos": [{
"name": "None",
"description": "",
"help": ""
}]}
Mensuration Capabilities: None
Has Histograms: true
Has Colormap: false
Has Multi Dimensions : false
Rendering Rule:
Min Scale: 500000
Max Scale: 600
Min LOD: 0
Max LOD: 11
Copyright Text: March 2026 Photography flown by The Sanborn Map Company, Inc. Colorado Springs, CO.
Service Data Type: esriImageServiceDataTypeGeneric
Min Values: 0, 0, 0, 0
Max Values: 255, 255, 255, 255
Mean Values: 135.25823148263197, 129.53502315555596, 114.71003590315819, 166.45304169163728
Standard Deviation Values: 52.501185824103196, 45.093409595539, 37.44696354538573, 50.44636755343742
Object ID Field: OBJECTID
Fields:
-
OBJECTID
(
type: esriFieldTypeOID, alias: OBJECTID
)
-
Name
(
type: esriFieldTypeString, alias: Name, length: 200
)
-
MinPS
(
type: esriFieldTypeDouble, alias: MinPS
)
-
MaxPS
(
type: esriFieldTypeDouble, alias: MaxPS
)
-
LowPS
(
type: esriFieldTypeDouble, alias: LowPS
)
-
HighPS
(
type: esriFieldTypeDouble, alias: HighPS
)
-
Category
(
type: esriFieldTypeInteger, alias: Category
, Coded Values:
[0: Unknown]
, [1: Primary]
, [2: Overview]
, ...5 more...
)
-
Tag
(
type: esriFieldTypeString, alias: Tag, length: 100
)
-
GroupName
(
type: esriFieldTypeString, alias: GroupName, length: 100
)
-
ProductName
(
type: esriFieldTypeString, alias: ProductName, length: 100
)
-
CenterX
(
type: esriFieldTypeDouble, alias: CenterX
)
-
CenterY
(
type: esriFieldTypeDouble, alias: CenterY
)
-
ZOrder
(
type: esriFieldTypeInteger, alias: ZOrder
)
-
Shape
(
type: esriFieldTypeGeometry, alias: Shape
)
-
Shape.STArea()
(
type: esriFieldTypeDouble, alias: Shape.STArea()
)
-
Shape.STLength()
(
type: esriFieldTypeDouble, alias: Shape.STLength()
)
Default Mosaic Method: Northwest
Allowed Mosaic Methods: NorthWest,Center,LockRaster,ByAttribute,Nadir,Viewpoint,Seamline,None
SortField:
SortValue: null
Mosaic Operator: First
Default Compression Quality: 75
Default Resampling Method: Bilinear
Max Record Count: 1000
Max Image Height: 4100
Max Image Width: 15000
Max Download Image Count: 20
Max Mosaic Image Count: 50
Allow Raster Function: true
Allow Copy: true
Allow Analysis: true
Allow Compute TiePoints: false
Supports Statistics: true
Supports Advanced Queries: true
Use StandardizedQueries: true
Raster Type Infos:
Name: Raster Dataset
Description: Supports all ArcGIS Raster Datasets
Help:
Has Raster Attribute Table: false
Edit Fields Info: null
Ownership Based AccessControl For Rasters: null
Child Resources:
Info
Histograms
Statistics
Key Properties
Legend
Raster Function Infos
Supported Operations:
Export Image
Query
Identify
Compute Histograms
Compute Statistics Histograms
Get Samples
Compute Class Statistics
Query Boundary
Compute Pixel Location
Compute Angles
Validate
Project