View In:
ArcGIS JavaScript
ArcGIS Online Map Viewer
ArcGIS Earth
ArcMap
View Footprint In:
ArcGIS Online Map Viewer
Service Description: Loudoun County annually obtains leaf-off, aerial imagery in the spring. Since 2004, the County has utilized this imagery to support the development of an annual digital orthophoto base. In 2018, the imagery was captured with a Vexcel Ultracam Eagle digital camera, in 4-band (R,G,B, and NIR) format. These files contain 1-foot ground-resolution, 8-bit, 4-band orthorectified aerial image map products in GeoTIFF version 6.0 file format. GeoTIFF files are uncompressed raster images complete with TFW coordinate information. The aerial imagery project encompasses the entire land area of the County of Loudoun, VA. Images were flown during leaf-off conditions and cover 5000' by 5000' and are tiled according to the VBMP 200-scale gridding schema (Virginia Geographic Information Network).
Name: Aerial/COLOR_2018_CACHED
Description: Loudoun County annually obtains leaf-off, aerial imagery in the spring. Since 2004, the County has utilized this imagery to support the development of an annual digital orthophoto base. In 2018, the imagery was captured with a Vexcel Ultracam Eagle digital camera, in 4-band (R,G,B, and NIR) format. These files contain 1-foot ground-resolution, 8-bit, 4-band orthorectified aerial image map products in GeoTIFF version 6.0 file format. GeoTIFF files are uncompressed raster images complete with TFW coordinate information. The aerial imagery project encompasses the entire land area of the County of Loudoun, VA. Images were flown during leaf-off conditions and cover 5000' by 5000' and are tiled according to the VBMP 200-scale gridding schema (Virginia Geographic Information Network).
Single Fused Map Cache: true
Tile Info:
- Height: 256
- Width: 256
- DPI: 96
-
Levels of Detail: 12
- Format: MIXED
- Compression Quality: 75.0
- LERC Error: NaN
- Origin: X: -1.105125E8
Y: 1.551328E8
- Spatial Reference: 2924
(2924)
LatestVCSWkid(0)
Storage Info:
- Storage Format: esriMapCacheStorageModeCompactV2
- Packet Size: 128
Extent:
XMin: 1.163E7
YMin: 6990000.0
XMax: 1.182E7
YMax: 7170000.0
Spatial Reference: 2924
(2924)
LatestVCSWkid(0)
Initial Extent:
XMin: 1.163E7
YMin: 6990000.0
XMax: 1.182E7
YMax: 7170000.0
Spatial Reference: 2924
(2924)
LatestVCSWkid(0)
Full Extent:
XMin: 1.163E7
YMin: 6990000.0
XMax: 1.182E7
YMax: 7170000.0
Spatial Reference: 2924
(2924)
LatestVCSWkid(0)
Pixel Size X: 1.0
Pixel Size Y: 1.0
Band Count: 4
Pixel Type: U8
RasterFunction Infos: {"rasterFunctionInfos": [{
"name": "None",
"description": "Make a Raster or Raster Dataset into a Function Raster Dataset.",
"help": ""
}]}
Mensuration Capabilities: NONE
Has Histograms: true
Has Colormap: false
Has Multi Dimensions : false
Rendering Rule:
Min Scale: 500000
Max Scale: 600
Min LOD: 0
Max LOD: 11
Copyright Text: "March 2018 Photography flown by the Sanborn Map Company, Colorado Springs, CO." "Digital Orthophotography compiled by Sanborn Map Company, Colorado Springs, CO"
Service Data Type: esriImageServiceDataTypeGeneric
Min Values: 0, 0, 0, 5
Max Values: 255, 255, 255, 255
Mean Values: 111.93811465349046, 102.95353205280536, 90.1868772683742, 148.17262774546825
Standard Deviation Values: 38.13685053133378, 34.001897865476835, 29.718315363229824, 38.491663477034514
Object ID Field: OBJECTID
Fields:
-
OBJECTID
(
type: esriFieldTypeOID, alias: OBJECTID
)
-
Name
(
type: esriFieldTypeString, alias: Name, length: 200
)
-
MinPS
(
type: esriFieldTypeDouble, alias: MinPS
)
-
MaxPS
(
type: esriFieldTypeDouble, alias: MaxPS
)
-
LowPS
(
type: esriFieldTypeDouble, alias: LowPS
)
-
HighPS
(
type: esriFieldTypeDouble, alias: HighPS
)
-
Category
(
type: esriFieldTypeInteger, alias: Category
, Coded Values:
[0: Unknown]
, [1: Primary]
, [2: Overview]
, ...5 more...
)
-
Tag
(
type: esriFieldTypeString, alias: Tag, length: 100
)
-
GroupName
(
type: esriFieldTypeString, alias: GroupName, length: 100
)
-
ProductName
(
type: esriFieldTypeString, alias: ProductName, length: 100
)
-
CenterX
(
type: esriFieldTypeDouble, alias: CenterX
)
-
CenterY
(
type: esriFieldTypeDouble, alias: CenterY
)
-
ZOrder
(
type: esriFieldTypeInteger, alias: ZOrder
)
-
Shape
(
type: esriFieldTypeGeometry, alias: Shape
)
-
Shape.STArea()
(
type: esriFieldTypeDouble, alias: Shape.STArea()
)
-
Shape.STLength()
(
type: esriFieldTypeDouble, alias: Shape.STLength()
)
Default Mosaic Method: Northwest
Allowed Mosaic Methods: NorthWest,Center,LockRaster,ByAttribute,Nadir,Viewpoint,Seamline,None
SortField:
SortValue: null
Mosaic Operator: First
Default Compression Quality: 75
Default Resampling Method: Bilinear
Max Record Count: 1000
Max Image Height: 4100
Max Image Width: 15000
Max Download Image Count: 20
Max Mosaic Image Count: 45
Allow Raster Function: true
Allow Copy: true
Allow Analysis: true
Allow Compute TiePoints: false
Supports Statistics: true
Supports Advanced Queries: true
Use StandardizedQueries: true
Raster Type Infos:
Name: Raster Dataset
Description: Supports all ArcGIS Raster Datasets
Help:
Has Raster Attribute Table: false
Edit Fields Info: null
Ownership Based AccessControl For Rasters: null
Child Resources:
Info
Histograms
Statistics
Key Properties
Legend
Raster Function Infos
Supported Operations:
Export Image
Query
Identify
Measure
Compute Histograms
Compute Statistics Histograms
Get Samples
Compute Class Statistics
Query Boundary
Compute Pixel Location
Compute Angles
Validate
Project