View In:
ArcGIS JavaScript
ArcGIS Online Map Viewer
ArcGIS Earth
ArcMap
View Footprint In:
ArcGIS Online Map Viewer
Service Description: This data set contains the 1957 and 1958 aerial imagery for the majority of Loudoun County, VA. It is composed of United States Farm Service Agency (USDA FSA) hardcopy imagery, which were scanned, georeferenced, and mosaiced by Loudoun County OMAGI to produce digital representations. Individual images cover approximately 15000' by 15000'.
Name: Aerial/B_W_1957
Description: This data set contains the 1957 and 1958 aerial imagery for the majority of Loudoun County, VA. It is composed of United States Farm Service Agency (USDA FSA) hardcopy imagery, which were scanned, georeferenced, and mosaiced by Loudoun County OMAGI to produce digital representations. Individual images cover approximately 15000' by 15000'.
Single Fused Map Cache: false
Extent:
XMin: 1.163581136454812E7
YMin: 6992719.19370327
XMax: 1.1815634878403181E7
YMax: 7166511.352305289
Spatial Reference: 2924
(2924)
LatestVCSWkid(0)
Initial Extent:
XMin: 1.163581136454812E7
YMin: 6992719.19370327
XMax: 1.1815634878403181E7
YMax: 7166511.352305289
Spatial Reference: 2924
(2924)
LatestVCSWkid(0)
Full Extent:
XMin: 1.163581136454812E7
YMin: 6992719.19370327
XMax: 1.1815634878403181E7
YMax: 7166511.352305289
Spatial Reference: 2924
(2924)
LatestVCSWkid(0)
Pixel Size X: 3.0523052900000094
Pixel Size Y: 3.052305289999996
Band Count: 3
Pixel Type: U8
RasterFunction Infos: {"rasterFunctionInfos": [{
"name": "None",
"description": "Make a Raster or Raster Dataset into a Function Raster Dataset.",
"help": ""
}]}
Mensuration Capabilities: None
Has Histograms: true
Has Colormap: false
Has Multi Dimensions : false
Rendering Rule:
Min Scale: 0
Max Scale: 0
Copyright Text: 1957/1958 Photography flown by United States Farm Service Agency
Service Data Type: esriImageServiceDataTypeRGB
Min Values: 0, 0, 0
Max Values: 209, 209, 209
Mean Values: 135.12008178539065, 135.12008178539065, 135.12008178539065
Standard Deviation Values: 28.708355918362574, 28.708355918362574, 28.708355918362574
Object ID Field: OBJECTID
Fields:
-
OBJECTID
(
type: esriFieldTypeOID, alias: OBJECTID
)
-
Name
(
type: esriFieldTypeString, alias: Name, length: 200
)
-
MinPS
(
type: esriFieldTypeDouble, alias: MinPS
)
-
MaxPS
(
type: esriFieldTypeDouble, alias: MaxPS
)
-
LowPS
(
type: esriFieldTypeDouble, alias: LowPS
)
-
HighPS
(
type: esriFieldTypeDouble, alias: HighPS
)
-
Category
(
type: esriFieldTypeInteger, alias: Category
, Coded Values:
[0: Unknown]
, [1: Primary]
, [2: Overview]
, ...5 more...
)
-
Tag
(
type: esriFieldTypeString, alias: Tag, length: 100
)
-
GroupName
(
type: esriFieldTypeString, alias: GroupName, length: 100
)
-
ProductName
(
type: esriFieldTypeString, alias: ProductName, length: 100
)
-
CenterX
(
type: esriFieldTypeDouble, alias: CenterX
)
-
CenterY
(
type: esriFieldTypeDouble, alias: CenterY
)
-
ZOrder
(
type: esriFieldTypeInteger, alias: ZOrder
)
-
Shape
(
type: esriFieldTypeGeometry, alias: Shape
)
-
Shape.STArea()
(
type: esriFieldTypeDouble, alias: Shape.STArea()
)
-
Shape.STLength()
(
type: esriFieldTypeDouble, alias: Shape.STLength()
)
Default Mosaic Method: Northwest
Allowed Mosaic Methods: NorthWest,Center,LockRaster,ByAttribute,Nadir,Viewpoint,Seamline,None
SortField:
SortValue: null
Mosaic Operator: First
Default Compression Quality: 75
Default Resampling Method: Bilinear
Max Record Count: 1000
Max Image Height: 4100
Max Image Width: 15000
Max Download Image Count: 20
Max Mosaic Image Count: 20
Allow Raster Function: true
Allow Copy: true
Allow Analysis: true
Allow Compute TiePoints: false
Supports Statistics: true
Supports Advanced Queries: true
Use StandardizedQueries: true
Raster Type Infos:
Name: Raster Dataset
Description: Supports all ArcGIS Raster Datasets
Help:
Has Raster Attribute Table: false
Edit Fields Info: null
Ownership Based AccessControl For Rasters: null
Child Resources:
Info
Histograms
Statistics
Key Properties
Legend
Raster Function Infos
Supported Operations:
Export Image
Query
Identify
Compute Histograms
Compute Statistics Histograms
Get Samples
Compute Class Statistics
Query Boundary
Compute Pixel Location
Compute Angles
Validate
Project