View In:
ArcGIS JavaScript
ArcGIS Online Map Viewer
ArcGIS Earth
ArcMap
View Footprint In:
ArcGIS Online Map Viewer
Service Description: This data set contains the 1937 aerial imagery for the majority of Loudoun County, VA. It is composed of United States Farm Service Agency (USDA FSA) hardcopy imagery, which were scanned, georeferenced, and mosaicked by Loudoun County OMAGI to produce digital representations. This aerial imagery is at a much larger scale than the County's other Historical Raster image (1957). There are only 200 photos that cover Loudoun County for the 37 imagery, as opposed to 700 for the 57.
Name: Aerial/B_W_1937
Description: This data set contains the 1937 aerial imagery for the majority of Loudoun County, VA. It is composed of United States Farm Service Agency (USDA FSA) hardcopy imagery, which were scanned, georeferenced, and mosaicked by Loudoun County OMAGI to produce digital representations. This aerial imagery is at a much larger scale than the County's other Historical Raster image (1957). There are only 200 photos that cover Loudoun County for the 37 imagery, as opposed to 700 for the 57.
Single Fused Map Cache: false
Extent:
XMin: 1.1629735070028141E7
YMin: 6987835.626188964
XMax: 1.1819890508576559E7
YMax: 7171222.454622388
Spatial Reference: 2924
(2924)
LatestVCSWkid(0)
Initial Extent:
XMin: 1.1629735070028141E7
YMin: 6987835.626188964
XMax: 1.1819890508576559E7
YMax: 7171222.454622388
Spatial Reference: 2924
(2924)
LatestVCSWkid(0)
Full Extent:
XMin: 1.1629735070028141E7
YMin: 6987835.626188964
XMax: 1.1819890508576559E7
YMax: 7171222.454622388
Spatial Reference: 2924
(2924)
LatestVCSWkid(0)
Pixel Size X: 1.2919660459999984
Pixel Size Y: 1.2919660460000018
Band Count: 1
Pixel Type: U16
RasterFunction Infos: {"rasterFunctionInfos": [{
"name": "None",
"description": "Make a Raster or Raster Dataset into a Function Raster Dataset.",
"help": ""
}]}
Mensuration Capabilities: NONE
Has Histograms: true
Has Colormap: false
Has Multi Dimensions : false
Rendering Rule:
Min Scale: 0
Max Scale: 0
Copyright Text:
Service Data Type: esriImageServiceDataTypeGeneric
Min Values: 0
Max Values: 255
Mean Values: 126.2317965486577
Standard Deviation Values: 43.338071958199876
Object ID Field: OBJECTID
Fields:
-
OBJECTID
(
type: esriFieldTypeOID, alias: OBJECTID
)
-
Name
(
type: esriFieldTypeString, alias: Name, length: 200
)
-
MinPS
(
type: esriFieldTypeDouble, alias: MinPS
)
-
MaxPS
(
type: esriFieldTypeDouble, alias: MaxPS
)
-
LowPS
(
type: esriFieldTypeDouble, alias: LowPS
)
-
HighPS
(
type: esriFieldTypeDouble, alias: HighPS
)
-
Category
(
type: esriFieldTypeInteger, alias: Category
, Coded Values:
[0: Unknown]
, [1: Primary]
, [2: Overview]
, ...5 more...
)
-
Tag
(
type: esriFieldTypeString, alias: Tag, length: 100
)
-
GroupName
(
type: esriFieldTypeString, alias: GroupName, length: 100
)
-
ProductName
(
type: esriFieldTypeString, alias: ProductName, length: 100
)
-
CenterX
(
type: esriFieldTypeDouble, alias: CenterX
)
-
CenterY
(
type: esriFieldTypeDouble, alias: CenterY
)
-
ZOrder
(
type: esriFieldTypeInteger, alias: ZOrder
)
-
Shape
(
type: esriFieldTypeGeometry, alias: Shape
)
-
Shape.STArea()
(
type: esriFieldTypeDouble, alias: Shape.STArea()
)
-
Shape.STLength()
(
type: esriFieldTypeDouble, alias: Shape.STLength()
)
Default Mosaic Method: Northwest
Allowed Mosaic Methods: NorthWest,Center,LockRaster,ByAttribute,Nadir,Viewpoint,Seamline,None
SortField:
SortValue: null
Mosaic Operator: First
Default Compression Quality: 75
Default Resampling Method: Bilinear
Max Record Count: 1000
Max Image Height: 4100
Max Image Width: 15000
Max Download Image Count: 20
Max Mosaic Image Count: 42
Allow Raster Function: true
Allow Copy: true
Allow Analysis: true
Allow Compute TiePoints: false
Supports Statistics: true
Supports Advanced Queries: true
Use StandardizedQueries: true
Raster Type Infos:
Name: Raster Dataset
Description: Supports all ArcGIS Raster Datasets
Help:
Has Raster Attribute Table: false
Edit Fields Info: null
Ownership Based AccessControl For Rasters: null
Child Resources:
Info
Histograms
Statistics
Key Properties
Legend
Raster Function Infos
Supported Operations:
Export Image
Query
Identify
Measure
Compute Histograms
Compute Statistics Histograms
Get Samples
Compute Class Statistics
Query Boundary
Compute Pixel Location
Compute Angles
Validate
Project