<?xml version="1.0" encoding="UTF-8" standalone="no"?>
<metadata xml:lang="en">
<Esri>
<CreaDate>20191015</CreaDate>
<CreaTime>16561300</CreaTime>
<ArcGISFormat>1.0</ArcGISFormat>
<SyncOnce>FALSE</SyncOnce>
<DataProperties>
<lineage>
<Process Date="20191015" Time="165613" ToolSource="c:\program files (x86)\arcgis\desktop10.7\ArcToolbox\Toolboxes\Data Management Tools.tbx\CreateMosaicDataset">CreateMosaicDataset "Database Connections\gimage_gissqldblis.sde" LOUDOUN1926POSTAL "PROJCS['NAD_1983_HARN_StatePlane_Virginia_North_FIPS_4501_Feet',GEOGCS['GCS_North_American_1983_HARN',DATUM['D_North_American_1983_HARN',SPHEROID['GRS_1980',6378137.0,298.257222101]],PRIMEM['Greenwich',0.0],UNIT['Degree',0.0174532925199433]],PROJECTION['Lambert_Conformal_Conic'],PARAMETER['False_Easting',11482916.66666666],PARAMETER['False_Northing',6561666.666666666],PARAMETER['Central_Meridian',-78.5],PARAMETER['Standard_Parallel_1',38.03333333333333],PARAMETER['Standard_Parallel_2',39.2],PARAMETER['Latitude_Of_Origin',37.66666666666666],UNIT['Foot_US',0.3048006096012192]];-110512500 -88858000 3048.00609601219;-100000 10000;-100000 10000;3.28083333333333E-03;0.001;0.001;IsHighPrecision" # # NONE #</Process>
<Process Date="20191015" Time="165929" ToolSource="c:\program files (x86)\arcgis\desktop10.7\ArcToolbox\Toolboxes\Data Management Tools.tbx\BuildFootprints">BuildFootprints "Database Connections\gimage_gissqldblis.sde\GISIMAGE.GIMAGE.LOUDOUN1926POSTAL" # RADIOMETRY 2 254 80 0 NO_MAINTAIN_EDGES SKIP_DERIVED_IMAGES UPDATE_BOUNDARY 2000 100 NONE # 20 0.05</Process>
<Process Date="20191015" Time="170030" ToolSource="c:\program files (x86)\arcgis\desktop10.7\ArcToolbox\Toolboxes\Data Management Tools.tbx\BuildOverviews">BuildOverviews "Database Connections\gimage_gissqldblis.sde\GISIMAGE.GIMAGE.LOUDOUN1926POSTAL" # DEFINE_MISSING_TILES GENERATE_OVERVIEWS GENERATE_MISSING_IMAGES REGENERATE_STALE_IMAGES</Process>
<Process Date="20191021" Time="094738" ToolSource="c:\program files (x86)\arcgis\desktop10.7\ArcToolbox\Toolboxes\Data Management Tools.tbx\AnalyzeMosaicDataset">AnalyzeMosaicDataset "Database Connections\gimage_gissqldblis.sde\GISIMAGE.GIMAGE.LOUDOUN1926POSTAL" # FOOTPRINT;FUNCTION;RASTER;PATHS</Process>
</lineage>
<itemProps>
<itemName Sync="TRUE">GISIMAGE.GIMAGE.LOUDOUN1926POSTAL</itemName>
<itemLocation>
<linkage Sync="TRUE">Server=gissqldblis; Service=sde:sqlserver:gissqldblis; Database=GISIMAGE; User=gimage; Version=sde.DEFAULT</linkage>
<protocol Sync="TRUE">ArcSDE Connection</protocol>
</itemLocation>
<nativeExtBox>
<westBL Sync="TRUE">11627099.090307</westBL>
<eastBL Sync="TRUE">11828643.862573</eastBL>
<southBL Sync="TRUE">6983254.634591</southBL>
<northBL Sync="TRUE">7176299.205585</northBL>
<exTypeCode Sync="TRUE">1</exTypeCode>
</nativeExtBox>
</itemProps>
<coordRef>
<type Sync="TRUE">Projected</type>
<geogcsn Sync="TRUE">GCS_North_American_1983_HARN</geogcsn>
<csUnits Sync="TRUE">Linear Unit: Foot_US (0.304801)</csUnits>
<projcsn Sync="TRUE">NAD_1983_HARN_StatePlane_Virginia_North_FIPS_4501_Feet</projcsn>
<peXml Sync="TRUE">&lt;ProjectedCoordinateSystem xsi:type='typens:ProjectedCoordinateSystem' xmlns:xsi='http://www.w3.org/2001/XMLSchema-instance' xmlns:xs='http://www.w3.org/2001/XMLSchema' xmlns:typens='http://www.esri.com/schemas/ArcGIS/10.8'&gt;&lt;WKT&gt;PROJCS[&amp;quot;NAD_1983_HARN_StatePlane_Virginia_North_FIPS_4501_Feet&amp;quot;,GEOGCS[&amp;quot;GCS_North_American_1983_HARN&amp;quot;,DATUM[&amp;quot;D_North_American_1983_HARN&amp;quot;,SPHEROID[&amp;quot;GRS_1980&amp;quot;,6378137.0,298.257222101]],PRIMEM[&amp;quot;Greenwich&amp;quot;,0.0],UNIT[&amp;quot;Degree&amp;quot;,0.0174532925199433]],PROJECTION[&amp;quot;Lambert_Conformal_Conic&amp;quot;],PARAMETER[&amp;quot;False_Easting&amp;quot;,11482916.66666666],PARAMETER[&amp;quot;False_Northing&amp;quot;,6561666.666666666],PARAMETER[&amp;quot;Central_Meridian&amp;quot;,-78.5],PARAMETER[&amp;quot;Standard_Parallel_1&amp;quot;,38.03333333333333],PARAMETER[&amp;quot;Standard_Parallel_2&amp;quot;,39.2],PARAMETER[&amp;quot;Latitude_Of_Origin&amp;quot;,37.66666666666666],UNIT[&amp;quot;Foot_US&amp;quot;,0.3048006096012192],AUTHORITY[&amp;quot;EPSG&amp;quot;,2924]]&lt;/WKT&gt;&lt;XOrigin&gt;-110512500&lt;/XOrigin&gt;&lt;YOrigin&gt;-88858000&lt;/YOrigin&gt;&lt;XYScale&gt;36916142.964165002&lt;/XYScale&gt;&lt;ZOrigin&gt;-100000&lt;/ZOrigin&gt;&lt;ZScale&gt;10000&lt;/ZScale&gt;&lt;MOrigin&gt;-100000&lt;/MOrigin&gt;&lt;MScale&gt;10000&lt;/MScale&gt;&lt;XYTolerance&gt;0.0032808333333333331&lt;/XYTolerance&gt;&lt;ZTolerance&gt;0.001&lt;/ZTolerance&gt;&lt;MTolerance&gt;0.001&lt;/MTolerance&gt;&lt;HighPrecision&gt;true&lt;/HighPrecision&gt;&lt;WKID&gt;2924&lt;/WKID&gt;&lt;LatestWKID&gt;2924&lt;/LatestWKID&gt;&lt;/ProjectedCoordinateSystem&gt;</peXml>
</coordRef>
<RasterProperties>
<General>
<PixelDepth Sync="TRUE">8</PixelDepth>
<HasColormap Sync="TRUE">FALSE</HasColormap>
<CompressionType Sync="TRUE">None</CompressionType>
<NumBands Sync="TRUE">3</NumBands>
<Format Sync="TRUE">AMD</Format>
<HasPyramids Sync="TRUE">TRUE</HasPyramids>
<SourceType Sync="TRUE">continuous</SourceType>
<PixelType Sync="TRUE">unsigned integer</PixelType>
<NoDataValue Sync="TRUE"/>
</General>
<Properties>
<MaxImageHeight Sync="TRUE">4100</MaxImageHeight>
<MaxImageWidth Sync="TRUE">15000</MaxImageWidth>
<MaxRecordCount Sync="TRUE">1000</MaxRecordCount>
<MaxDownloadImageCount Sync="TRUE">20</MaxDownloadImageCount>
<MaxDownloadSizeLimit Sync="TRUE">2048</MaxDownloadSizeLimit>
<MaxMosaicImageCount Sync="TRUE">45</MaxMosaicImageCount>
<DefaultCompressionQuality Sync="TRUE">75</DefaultCompressionQuality>
<DefaultCompressionTolerance Sync="TRUE">0.01</DefaultCompressionTolerance>
<BlendWidth Sync="TRUE">10</BlendWidth>
<ViewpointSpacingX Sync="TRUE">600</ViewpointSpacingX>
<ViewpointSpacingY Sync="TRUE">300</ViewpointSpacingY>
<AllowedItemMetadata Sync="TRUE">Basic</AllowedItemMetadata>
<DefaultResamplingMethod Sync="TRUE">1</DefaultResamplingMethod>
<AllowedMosaicMethods Sync="TRUE">NorthWest,Center,LockRaster,ByAttribute,Nadir,Viewpoint,Seamline,None</AllowedMosaicMethods>
<AllowedCompressions Sync="TRUE">None,JPEG,LZ77,LERC</AllowedCompressions>
<AllowedMensurationCapabilities Sync="TRUE">NONE</AllowedMensurationCapabilities>
<AvailableMensurationCapabilities Sync="TRUE">None,Basic,Base-Top Height,Top-Top Shadow Height,Base-Top Shadow Height,3D</AvailableMensurationCapabilities>
<ClipToBoundary Sync="TRUE">-1</ClipToBoundary>
<FootprintMayContainNoData Sync="TRUE">-1</FootprintMayContainNoData>
<CellSizeTolerance Sync="TRUE">0.8</CellSizeTolerance>
<MinimumPixelContribution Sync="TRUE">1</MinimumPixelContribution>
<AvailableMosaicMethods Sync="TRUE">NorthWest,Center,LockRaster,ByAttribute,Nadir,Viewpoint,Seamline,None</AvailableMosaicMethods>
<AvailableCompressionMethods Sync="TRUE">None,JPEG,LZ77,LERC</AvailableCompressionMethods>
<AvailableItemMetadataLevels Sync="TRUE">None,Basic,Full</AvailableItemMetadataLevels>
<BandDefinitionKeyword Sync="TRUE">NONE</BandDefinitionKeyword>
<_docversion_ Sync="TRUE">10</_docversion_>
<AllowedFields Sync="TRUE">Name,MinPS,MaxPS,LowPS,HighPS,Tag,GroupName,ProductName,CenterX,CenterY,ZOrder,Shape.STArea(),Shape.STLength()</AllowedFields>
<MaxCellSize Sync="TRUE">81001.917999</MaxCellSize>
<LowCellSize Sync="TRUE">20.00047358</LowCellSize>
<HighCellSize Sync="TRUE">1620.03835998</HighCellSize>
<ClipToFootprint Sync="TRUE">-1</ClipToFootprint>
<ApplyColorCorrection Sync="TRUE">0</ApplyColorCorrection>
<SortAscending Sync="TRUE">-1</SortAscending>
<MosaicOperator Sync="TRUE">1</MosaicOperator>
<UseTime Sync="TRUE">0</UseTime>
<DataType Sync="TRUE">Generic</DataType>
</Properties>
<Functions Sync="TRUE">
<Function Description="Performs on-the-fly mosaic on a raster catalog." Name="Mosaic Function"/>
</Functions>
</RasterProperties>
</DataProperties>
<SyncDate>20240612</SyncDate>
<SyncTime>10422100</SyncTime>
<ModDate>20240612</ModDate>
<ModTime>10422100</ModTime>
</Esri>
<mdLang>
<languageCode value="eng"/>
<countryCode Sync="TRUE" value="USA"/>
</mdLang>
<mdChar>
<CharSetCd value="004"/>
</mdChar>
<mdHrLv>
<ScopeCd value="005"/>
</mdHrLv>
<mdContact>
<rpOrgName>Loudoun County, VA, Office of Mapping &amp; Geographic Information (OMAGI)</rpOrgName>
<rpPosName>Metadata Specialist</rpPosName>
<role>
<RoleCd value="007"/>
</role>
</mdContact>
<mdStanName>ArcGIS Metadata</mdStanName>
<mdStanVer>1.0</mdStanVer>
<distInfo>
<distributor>
<distorCont>
<rpOrgName>Loudoun County, VA, OMAGI</rpOrgName>
<rpPosName>Public Information Counter</rpPosName>
<rpCntInfo>
<cntPhone>
<voiceNum>(703)771-5778</voiceNum>
<faxNum>(703)771-5075</faxNum>
</cntPhone>
<cntAddress addressType="both">
<delPoint>1 Harrison Street SE, 2nd Floor</delPoint>
<city>Leesburg</city>
<adminArea>VA</adminArea>
<postCode>20175</postCode>
<country>US</country>
<eMailAdd>mapping@loudoun.gov</eMailAdd>
</cntAddress>
<cntHours>8:00-4:30 EST, M-F</cntHours>
</rpCntInfo>
<role>
<RoleCd value="005"/>
</role>
</distorCont>
<distorOrdPrc>
<resFees>Loudoun County distributes spatial data in ArcGIS database or shapefile &amp; DXF format for the cost of reproduction. Countywide spatial datasets may be purchased for $22 per DVD for up to 4.5 GB of data. There is a $100 surcharge to purchase countywide topography, and a $3 charge if the item is to be mailed. If the customer wants the data in DXF format and/or would like OMAGI to custom select specific geographic areas of the County, there is an additional $7 per 15 minute increment labor charge. Select aerial imagery is also available.</resFees>
<ordInstr>Size limit: 4.5 GB. Visit our website at: http://www.loudoun.gov/omagi, click on "Loudoun County Mapping Documents &amp; Order Forms." The "Forms" directory will lead you to custom &amp; standard (countywide) data order forms. Hardcopy maps may also be available; please contact the Mapping Office Public Information Counter for more information regarding all data requests.</ordInstr>
</distorOrdPrc>
<distorFormat>
<formatName>DXF</formatName>
<formatSpec>AutoCAD Digital Exchange File</formatSpec>
</distorFormat>
<distorFormat>
<formatName>SHP</formatName>
<formatSpec>ESRI Shapefile</formatSpec>
</distorFormat>
<distorFormat>
<formatName>GDB</formatName>
<formatSpec>ESRI Geodatabase Feature Class</formatSpec>
</distorFormat>
<distorTran>
<offLineMed>
<medName>
<MedNameCd value="002"/>
</medName>
</offLineMed>
</distorTran>
<distorTran>
<offLineMed>
<medName>
<MedNameCd value="002"/>
</medName>
</offLineMed>
</distorTran>
<distorTran>
<offLineMed>
<medName>
<MedNameCd value="002"/>
</medName>
</offLineMed>
</distorTran>
<distorTran>
<onLineSrc>
<orDesc>Offline data</orDesc>
</onLineSrc>
</distorTran>
</distributor>
</distInfo>
<dataIdInfo>
<idCitation>
<resTitle Sync="TRUE">LOUDOUN1926POSTAL</resTitle>
<date>
<pubDate>1926-01-01</pubDate>
</date>
<citRespParty>
<rpOrgName>Post Office Department</rpOrgName>
<role>
<RoleCd value="006"/>
</role>
</citRespParty>
<presForm>
<PresFormCd Sync="TRUE" value="005"/>
</presForm>
</idCitation>
<idAbs>This map contains the 1926 rural delivery routes of Loudoun County, VA. It was mapped in 1926 by the Post Office Department.</idAbs>
<idPurp>This map should be used in historical research only.</idPurp>
<idStatus>
<ProgCd value="001"/>
</idStatus>
<idPoC>
<rpOrgName>Loudoun County Department of Building and Development</rpOrgName>
<rpPosName>GIS Administrator</rpPosName>
<role>
<RoleCd value="007"/>
</role>
</idPoC>
<resMaint>
<maintFreq>
<MaintFreqCd value="011"/>
</maintFreq>
</resMaint>
<placeKeys>
<keyword>Virginia</keyword>
<keyword>County</keyword>
<keyword>Loudoun</keyword>
</placeKeys>
<themeKeys>
<keyword>transportation</keyword>
<keyword>imageryBaseMapsEarthCover</keyword>
<thesaName>
<resTitle>ISO 19115</resTitle>
</thesaName>
</themeKeys>
<themeKeys>
<keyword>Postal</keyword>
<keyword>rural</keyword>
<keyword>routes</keyword>
</themeKeys>
<searchKeys>
<keyword>Postal</keyword>
<keyword>rural</keyword>
<keyword>Virginia</keyword>
<keyword>transportation</keyword>
<keyword>County</keyword>
<keyword>Loudoun</keyword>
<keyword>routes</keyword>
<keyword>imageryBaseMapsEarthCover</keyword>
</searchKeys>
<resConst>
<LegConsts>
<useLimit>Every reasonable effort has been made to assure the accuracy of these data. Loudoun County, Virginia does not assume any liability arising from the use of these data. These data are provided without warranty of any kind, either expressed or implied, including, but not limited to, the implied warranties of merchantability and fitness for a particular service. Reliance on these data is at the risk of the user.</useLimit>
</LegConsts>
</resConst>
<resConst>
<Consts>
<useLimit>This dataset is to be used only as reference, due to mapping techniques used in the creation of the map along with the known spatial inaccuracies of the 1957 Imagery.</useLimit>
</Consts>
</resConst>
<dataLang>
<languageCode value="eng"/>
<countryCode Sync="TRUE" value="USA"/>
</dataLang>
<tpCat>
<TopicCatCd value="010"/>
</tpCat>
<tpCat>
<TopicCatCd value="018"/>
</tpCat>
<dataExt>
<exDesc>publication date</exDesc>
<tempEle>
<TempExtent>
<exTemp>
<TM_Instant>
<tmPosition>1926-01-01</tmPosition>
</TM_Instant>
</exTemp>
</TempExtent>
</tempEle>
<geoEle/>
</dataExt>
<suppInfo>The original map is stored in the Library of Virginia map collection.</suppInfo>
<envirDesc Sync="TRUE"> Version 6.2 (Build 9200) ; Esri ArcGIS 10.9.1.28388</envirDesc>
<spatRpType>
<SpatRepTypCd Sync="TRUE" value="002"/>
</spatRpType>
<dataExt>
<geoEle>
<GeoBndBox esriExtentType="search">
<exTypeCode Sync="TRUE">1</exTypeCode>
<westBL Sync="TRUE">-77.993916</westBL>
<eastBL Sync="TRUE">-77.277525</eastBL>
<northBL Sync="TRUE">39.353248</northBL>
<southBL Sync="TRUE">38.818057</southBL>
</GeoBndBox>
</geoEle>
</dataExt>
<idCredit/>
</dataIdInfo>
<mdConst>
<Consts>
<useLimit>This metadata reflects the source Geodatabase format and specific elements may not apply if your data is exported to SHP, DXF, or .e00 products. User must be aware that changes to data schema occur during data export that may not be reflected in this metadata, which represents Loudoun County's corporate geodatabase. Acknowledgement of Loudoun County would be appreciated in the use of this metadata.</useLimit>
</Consts>
</mdConst>
<dqInfo>
<dqScope>
<scpLvl>
<ScopeCd value="005"/>
</scpLvl>
</dqScope>
<report dimension="horizontal" type="DQAbsExtPosAcc">
<measDesc>This dataset is to be used only as reference, due to mapping techniques used in the creation of the map along with the known spatial inaccuracies of the 1957 Imagery.</measDesc>
</report>
<dataLineage>
<prcStep>
<stepDesc>1. Export .pdf (source) to .tif. 2. Georeference .tif file using Georeferencing Toolbar in ArcMap. The 1957 Panchromatic Imagery (stored in SDE Instance 5191, named GISRSTR.GRSTR.B_W_1957) was used as the reference data.</stepDesc>
<stepProc>
<rpOrgName>Loudoun County Department of Building and Development</rpOrgName>
<rpPosName>GIS Administration Team</rpPosName>
<role>
<RoleCd value="009"/>
</role>
</stepProc>
</prcStep>
</dataLineage>
</dqInfo>
<eainfo>
<detailed>
<enttyp>
<enttypl>
Band_1</enttypl>
</enttyp>
<attr>
<attrlabl>ObjectID</attrlabl>
<attrdef>Internal feature number.</attrdef>
<attrdefs>ESRI</attrdefs>
<attrdomv>
<udom>Sequential unique whole numbers that are automatically generated.</udom>
</attrdomv>
</attr>
<attr>
<attrlabl>Value</attrlabl>
</attr>
<attr>
<attrlabl>Count</attrlabl>
</attr>
</detailed>
<detailed>
<enttyp>
<enttypl>
Band_2</enttypl>
</enttyp>
<attr>
<attrlabl>ObjectID</attrlabl>
<attrdef>Internal feature number.</attrdef>
<attrdefs>ESRI</attrdefs>
<attrdomv>
<udom>Sequential unique whole numbers that are automatically generated.</udom>
</attrdomv>
</attr>
<attr>
<attrlabl>Value</attrlabl>
</attr>
<attr>
<attrlabl>Count</attrlabl>
</attr>
</detailed>
<detailed>
<enttyp>
<enttypl>
Band_3</enttypl>
</enttyp>
<attr>
<attrlabl>ObjectID</attrlabl>
<attrdef>Internal feature number.</attrdef>
<attrdefs>ESRI</attrdefs>
<attrdomv>
<udom>Sequential unique whole numbers that are automatically generated.</udom>
</attrdomv>
</attr>
<attr>
<attrlabl>Value</attrlabl>
</attr>
<attr>
<attrlabl>Count</attrlabl>
</attr>
</detailed>
</eainfo>
<refSysInfo>
<RefSystem>
<refSysID>
<identCode Sync="TRUE" code="2924"/>
<idCodeSpace Sync="TRUE">EPSG</idCodeSpace>
<idVersion Sync="TRUE">6.3(9.0.0)</idVersion>
</refSysID>
</RefSystem>
</refSysInfo>
<spatRepInfo>
<Georect>
<cellGeo>
<CellGeoCd Sync="TRUE" value="002"/>
</cellGeo>
<numDims Sync="TRUE">2</numDims>
<tranParaAv Sync="TRUE">1</tranParaAv>
<chkPtAv Sync="TRUE">0</chkPtAv>
<cornerPts>
<pos Sync="TRUE">11627099.090307 6983254.634591</pos>
</cornerPts>
<cornerPts>
<pos Sync="TRUE">11627099.090307 7176299.205585</pos>
</cornerPts>
<cornerPts>
<pos Sync="TRUE">11828643.862573 7176299.205585</pos>
</cornerPts>
<cornerPts>
<pos Sync="TRUE">11828643.862573 6983254.634591</pos>
</cornerPts>
<centerPt>
<pos Sync="TRUE">11727871.476440 7079776.920088</pos>
</centerPt>
<axisDimension type="002">
<dimSize Sync="TRUE">10077</dimSize>
<dimResol>
<value Sync="TRUE" uom="ftUS">20.000474</value>
</dimResol>
</axisDimension>
<axisDimension type="001">
<dimSize Sync="TRUE">9652</dimSize>
<dimResol>
<value Sync="TRUE" uom="ftUS">20.000474</value>
</dimResol>
</axisDimension>
<ptInPixel>
<PixOrientCd Sync="TRUE" value="001"/>
</ptInPixel>
</Georect>
</spatRepInfo>
<contInfo>
<ImgDesc>
<contentTyp>
<ContentTypCd Sync="TRUE" value="001"/>
</contentTyp>
<covDim>
<Band>
<dimDescrp Sync="TRUE">Band_1</dimDescrp>
<bitsPerVal Sync="TRUE">8</bitsPerVal>
<valUnit>
<UOM type="length"/>
</valUnit>
<maxVal Sync="TRUE">255.000000</maxVal>
<minVal Sync="TRUE">1.000000</minVal>
</Band>
<Band>
<dimDescrp Sync="TRUE">Band_2</dimDescrp>
<bitsPerVal Sync="TRUE">8</bitsPerVal>
<valUnit>
<UOM type="length"/>
</valUnit>
<maxVal Sync="TRUE">252.000000</maxVal>
<minVal Sync="TRUE">20.000000</minVal>
</Band>
<Band>
<dimDescrp Sync="TRUE">Band_3</dimDescrp>
<bitsPerVal Sync="TRUE">8</bitsPerVal>
<valUnit>
<UOM type="length"/>
</valUnit>
<maxVal Sync="TRUE">225.000000</maxVal>
<minVal Sync="TRUE">26.000000</minVal>
</Band>
</covDim>
</ImgDesc>
</contInfo>
<mdDateSt Sync="TRUE">20240612</mdDateSt>
</metadata>
