{
 "currentVersion": 10.91,
 "cimVersion": "2.9.0",
 "serviceDescription": "In the spring of 2017, the Commonwealth of Virginia, through the Virginia Geographic Information Network Division (herein referred to as VGIN) of the Virginia Information Technologies Agency (VITA) contracted with Fugro Geospatial, Inc. to provide aerial data acquisition, ground control, aerial triangulation and development of statewide ortho quality DEM and digital orthophotography data. The Virginia Base Mapping Program (VBMP) update project is divided into three collection phases: In 2017, Fugro flew the eastern third of Virginia at one foot resolution, with options for localities and other interested parties to upgrade resolution or purchase other optional products through the state contract. The middle third of Virginia will be flown in 2018 and the western third in 2019. Ortho products are 1-foot resolution statewide with upgrades to 6-inch resolution tiles and 3-inch resolution tiles in various regions within the project area. The Virginia Base Mapping project encompasses the entire land area of the Commonwealth of Virginia over 4 years. The State boundary is buffered by 1000'. Coastal areas of the State bordering the Atlantic Ocean or the Chesapeake Bay are buffered by 1000' or the extent of man-made features extending from shore.",
 "mapName": "Imagery2017",
 "description": "In the spring of 2017, the Commonwealth of Virginia, through the Virginia Geographic Information Network Division (herein referred to as VGIN) of the Virginia Information Technologies Agency (VITA) contracted with Fugro Geospatial, Inc. to provide aerial data acquisition, ground control, aerial triangulation and development of statewide ortho quality DEM and digital orthophotography data. The Virginia Base Mapping Program (VBMP) update project is divided into three collection phases: In 2017, Fugro flew the eastern third of Virginia at one foot resolution, with options for localities and other interested parties to upgrade resolution or purchase other optional products through the state contract. The middle third of Virginia will be flown in 2018 and the western third in 2019. Ortho products are 1-foot resolution statewide with upgrades to 6-inch resolution tiles and 3-inch resolution tiles in various regions within the project area. The Virginia Base Mapping project encompasses the entire land area of the Commonwealth of Virginia over 4 years. The State boundary is buffered by 1000'. Coastal areas of the State bordering the Atlantic Ocean or the Chesapeake Bay are buffered by 1000' or the extent of man-made features extending from shore.",
 "copyrightText": "Loudoun County, Virginia",
 "supportsDynamicLayers": true,
 "layers": [
  {
   "id": 0,
   "name": "Imagery2017",
   "parentLayerId": -1,
   "defaultVisibility": true,
   "subLayerIds": null,
   "minScale": 0,
   "maxScale": 0,
   "type": "Raster Layer",
   "supportsDynamicLegends": true
  },
  {
   "id": 1,
   "name": "COUNTY LINE",
   "parentLayerId": -1,
   "defaultVisibility": true,
   "subLayerIds": null,
   "minScale": 0,
   "maxScale": 0,
   "type": "Feature Layer",
   "geometryType": "esriGeometryPolyline",
   "supportsDynamicLegends": true
  }
 ],
 "tables": [],
 "spatialReference": {
  "wkid": 2924,
  "latestWkid": 2924,
  "xyTolerance": 0.0032808333333333335,
  "zTolerance": 0.001,
  "mTolerance": 0.001,
  "falseX": -110512500,
  "falseY": -88858000,
  "xyUnits": 3.6916142964165E7,
  "falseZ": -100000,
  "zUnits": 10000,
  "falseM": -100000,
  "mUnits": 10000
 },
 "singleFusedMapCache": true,
 "tileInfo": {
  "rows": 256,
  "cols": 256,
  "dpi": 96,
  "format": "JPEG",
  "compressionQuality": 75,
  "origin": {
   "x": -110512500,
   "y": 155132800
  },
  "spatialReference": {
   "wkid": 2924,
   "latestWkid": 2924,
   "xyTolerance": 0.0032808333333333335,
   "zTolerance": 0.001,
   "mTolerance": 0.001,
   "falseX": -110512500,
   "falseY": -88858000,
   "xyUnits": 3.6916142964165E7,
   "falseZ": -100000,
   "zUnits": 10000,
   "falseM": -100000,
   "mUnits": 10000
  },
  "lods": [
   {
    "level": 0,
    "resolution": 434.02777777777777,
    "scale": 500000
   },
   {
    "level": 1,
    "resolution": 347.22222222222223,
    "scale": 400000
   },
   {
    "level": 2,
    "resolution": 217.01388888888889,
    "scale": 250000
   },
   {
    "level": 3,
    "resolution": 108.50694444444444,
    "scale": 125000
   },
   {
    "level": 4,
    "resolution": 55.55555555555555,
    "scale": 64000
   },
   {
    "level": 5,
    "resolution": 27.777777777777775,
    "scale": 32000
   },
   {
    "level": 6,
    "resolution": 13.888888888888888,
    "scale": 16000
   },
   {
    "level": 7,
    "resolution": 6.25,
    "scale": 7200
   },
   {
    "level": 8,
    "resolution": 4.166666666666666,
    "scale": 4800
   },
   {
    "level": 9,
    "resolution": 2.083333333333333,
    "scale": 2400
   },
   {
    "level": 10,
    "resolution": 1.0416666666666665,
    "scale": 1200
   },
   {
    "level": 11,
    "resolution": 0.5208333333333333,
    "scale": 600
   }
  ]
 },
 "storageInfo": {
  "storageFormat": "esriMapCacheStorageModeCompactV2",
  "packetSize": 128
 },
 "initialExtent": {
  "xmin": 1.1591808956574231E7,
  "ymin": 6950513.495089334,
  "xmax": 1.1865691043425858E7,
  "ymax": 7206986.504910666,
  "spatialReference": {
   "wkid": 2924,
   "latestWkid": 2924,
   "xyTolerance": 0.0032808333333333335,
   "zTolerance": 0.001,
   "mTolerance": 0.001,
   "falseX": -110512500,
   "falseY": -88858000,
   "xyUnits": 3.6916142964165E7,
   "falseZ": -100000,
   "zUnits": 10000,
   "falseM": -100000,
   "mUnits": 10000
  }
 },
 "fullExtent": {
  "xmin": 1.1635000000000045E7,
  "ymin": 6987500,
  "xmax": 1.1822500000000045E7,
  "ymax": 7170000,
  "spatialReference": {
   "wkid": 2924,
   "latestWkid": 2924,
   "xyTolerance": 0.0032808333333333335,
   "zTolerance": 0.001,
   "mTolerance": 0.001,
   "falseX": -110512500,
   "falseY": -88858000,
   "xyUnits": 3.6916142964165E7,
   "falseZ": -100000,
   "zUnits": 10000,
   "falseM": -100000,
   "mUnits": 10000
  }
 },
 "datesInUnknownTimezone": false,
 "minScale": 500000,
 "maxScale": 600,
 "units": "esriFeet",
 "supportedImageFormatTypes": "PNG32,PNG24,PNG,JPG,DIB,TIFF,EMF,PS,PDF,GIF,SVG,SVGZ,BMP",
 "documentInfo": {
  "Title": "Imagery2017",
  "Author": "",
  "Comments": "In the spring of 2017, the Commonwealth of Virginia, through the Virginia Geographic Information Network Division (herein referred to as VGIN) of the Virginia Information Technologies Agency (VITA) contracted with Fugro Geospatial, Inc. to provide aerial data acquisition, ground control, aerial triangulation and development of statewide ortho quality DEM and digital orthophotography data. The Virginia Base Mapping Program (VBMP) update project is divided into three collection phases: In 2017, Fugro flew the eastern third of Virginia at one foot resolution, with options for localities and other interested parties to upgrade resolution or purchase other optional products through the state contract. The middle third of Virginia will be flown in 2018 and the western third in 2019. Ortho products are 1-foot resolution statewide with upgrades to 6-inch resolution tiles and 3-inch resolution tiles in various regions within the project area. The Virginia Base Mapping project encompasses the entire land area of the Commonwealth of Virginia over 4 years. The State boundary is buffered by 1000'. Coastal areas of the State bordering the Atlantic Ocean or the Chesapeake Bay are buffered by 1000' or the extent of man-made features extending from shore.",
  "Subject": "Loudoun County Aerial Imagery 2017",
  "Category": "",
  "AntialiasingMode": "None",
  "TextAntialiasingMode": "Force",
  "Version": "2.9.0",
  "Keywords": "Loudoun Couty,Virginia,aerial,image,photo,2017"
 },
 "supportsQueryDomains": true,
 "capabilities": "Map,Query,Data",
 "supportedQueryFormats": "JSON, geoJSON, PBF",
 "exportTilesAllowed": false,
 "referenceScale": 0.0,
 "datumTransformations": [
  {
   "geoTransforms": [
    {
     "wkid": 108001,
     "latestWkid": 1241,
     "transformForward": true,
     "name": "NAD_1927_To_NAD_1983_NADCON"
    }
   ]
  },
  {
   "geoTransforms": [
    {
     "wkid": 108001,
     "latestWkid": 1241,
     "transformForward": false,
     "name": "NAD_1927_To_NAD_1983_NADCON"
    }
   ]
  }
 ],
 "supportsDatumTransformation": true,
 "archivingInfo": {
  "supportsHistoricMoment": false
 },
 "supportsClipping": true,
 "supportsSpatialFilter": true,
 "supportsTimeRelation": true,
 "supportsQueryDataElements": true,
 "maxRecordCount": 1000,
 "maxImageHeight": 4096,
 "maxImageWidth": 4096,
 "supportedExtensions": "",
 "resampling": false
}
