{
 "currentVersion": 10.91,
 "cimVersion": "2.9.0",
 "serviceDescription": "Loudoun County annually obtains leaf-off, aerial imagery in the spring. Since 2004, the County has utilized this imagery to support the development of an annual digital orthophoto base. In 2016, the imagery was captured with a Vexcel Ultracam Eagle digital camera, in 4-band (R,G,B, and NIR) format. These files contain 1-foot ground-resolution, 8-bit, 4-band orthorectified aerial image map products in GeoTIFF version 6.0 file format. GeoTIFF files are uncompressed raster images complete with TFW coordinate information. The aerial imagery project encompasses the entire land area of the County of Loudoun, VA. Images were flown during leaf-off conditions and cover 5000' by 5000' and are tiled according to the VBMP 200-scale gridding schema (Virginia Geographic Information Network).\"March 2016 Photography flown by the Sanborn Map Company, Colorado Springs, CO.\" \"Digital Orthophotography compiled by Sanborn Map Company, Colorado Springs, CO\"",
 "mapName": "Imagery2016",
 "description": "Loudoun County annually obtains leaf-off, aerial imagery in the spring. Since 2004, the County has utilized this imagery to support the development of an annual digital orthophoto base. In 2016, the imagery was captured with a Vexcel Ultracam Eagle digital camera, in 4-band (R,G,B, and NIR) format. These files contain 1-foot ground-resolution, 8-bit, 4-band orthorectified aerial image map products in GeoTIFF version 6.0 file format. GeoTIFF files are uncompressed raster images complete with TFW coordinate information. The aerial imagery project encompasses the entire land area of the County of Loudoun, VA. Images were flown during leaf-off conditions and cover 5000' by 5000' and are tiled according to the VBMP 200-scale gridding schema (Virginia Geographic Information Network).\"March 2016 Photography flown by the Sanborn Map Company, Colorado Springs, CO.\" \"Digital Orthophotography compiled by Sanborn Map Company, Colorado Springs, CO\"",
 "copyrightText": "Loudoun County, Virginia",
 "supportsDynamicLayers": false,
 "layers": [
  {
   "id": 0,
   "name": "COUNTY LINE",
   "parentLayerId": -1,
   "defaultVisibility": true,
   "subLayerIds": null,
   "minScale": 750000,
   "maxScale": 0,
   "type": "Feature Layer",
   "geometryType": "esriGeometryPolyline",
   "supportsDynamicLegends": true
  }
 ],
 "tables": [],
 "spatialReference": {
  "wkid": 2924,
  "latestWkid": 2924,
  "xyTolerance": 0.0032808333333333335,
  "zTolerance": 0.001,
  "mTolerance": 0.001,
  "falseX": -110512500,
  "falseY": -88858000,
  "xyUnits": 3.6916142964165E7,
  "falseZ": -100000,
  "zUnits": 10000,
  "falseM": -100000,
  "mUnits": 10000
 },
 "singleFusedMapCache": true,
 "tileInfo": {
  "rows": 256,
  "cols": 256,
  "dpi": 96,
  "format": "JPEG",
  "compressionQuality": 75,
  "origin": {
   "x": -110512500,
   "y": 155132800
  },
  "spatialReference": {
   "wkid": 2924,
   "latestWkid": 2924,
   "xyTolerance": 0.0032808333333333335,
   "zTolerance": 0.001,
   "mTolerance": 0.001,
   "falseX": -110512500,
   "falseY": -88858000,
   "xyUnits": 3.6916142964165E7,
   "falseZ": -100000,
   "zUnits": 10000,
   "falseM": -100000,
   "mUnits": 10000
  },
  "lods": [
   {
    "level": 0,
    "resolution": 434.02777777777777,
    "scale": 500000
   },
   {
    "level": 1,
    "resolution": 347.22222222222223,
    "scale": 400000
   },
   {
    "level": 2,
    "resolution": 217.01388888888889,
    "scale": 250000
   },
   {
    "level": 3,
    "resolution": 108.50694444444444,
    "scale": 125000
   },
   {
    "level": 4,
    "resolution": 55.55555555555555,
    "scale": 64000
   },
   {
    "level": 5,
    "resolution": 27.777777777777775,
    "scale": 32000
   },
   {
    "level": 6,
    "resolution": 13.888888888888888,
    "scale": 16000
   },
   {
    "level": 7,
    "resolution": 6.25,
    "scale": 7200
   },
   {
    "level": 8,
    "resolution": 4.166666666666666,
    "scale": 4800
   },
   {
    "level": 9,
    "resolution": 2.083333333333333,
    "scale": 2400
   },
   {
    "level": 10,
    "resolution": 1.0416666666666665,
    "scale": 1200
   },
   {
    "level": 11,
    "resolution": 0.5208333333333333,
    "scale": 600
   }
  ]
 },
 "storageInfo": {
  "storageFormat": "esriMapCacheStorageModeCompact",
  "packetSize": 128
 },
 "initialExtent": {
  "xmin": 1.1595209792317027E7,
  "ymin": 6984398.323149339,
  "xmax": 1.1856149762516191E7,
  "ymax": 7174739.150217696,
  "spatialReference": {
   "wkid": 2924,
   "latestWkid": 2924,
   "xyTolerance": 0.0032808333333333335,
   "zTolerance": 0.001,
   "mTolerance": 0.001,
   "falseX": -110512500,
   "falseY": -88858000,
   "xyUnits": 3.6916142964165E7,
   "falseZ": -100000,
   "zUnits": 10000,
   "falseM": -100000,
   "mUnits": 10000
  }
 },
 "fullExtent": {
  "xmin": 1.163572744321403E7,
  "ymin": 6992630.69500877,
  "xmax": 1.181563211161919E7,
  "ymax": 7166506.778358266,
  "spatialReference": {
   "wkid": 2924,
   "latestWkid": 2924,
   "xyTolerance": 0.0032808333333333335,
   "zTolerance": 0.001,
   "mTolerance": 0.001,
   "falseX": -110512500,
   "falseY": -88858000,
   "xyUnits": 3.6916142964165E7,
   "falseZ": -100000,
   "zUnits": 10000,
   "falseM": -100000,
   "mUnits": 10000
  }
 },
 "datesInUnknownTimezone": false,
 "minScale": 500000,
 "maxScale": 600,
 "units": "esriFeet",
 "supportedImageFormatTypes": "PNG32,PNG24,PNG,JPG,DIB,TIFF,EMF,PS,PDF,GIF,SVG,SVGZ,BMP",
 "documentInfo": {
  "Title": "Imagery2016",
  "Author": "",
  "Comments": "Loudoun County annually obtains leaf-off, aerial imagery in the spring. Since 2004, the County has utilized this imagery to support the development of an annual digital orthophoto base. In 2016, the imagery was captured with a Vexcel Ultracam Eagle digital camera, in 4-band (R,G,B, and NIR) format. These files contain 1-foot ground-resolution, 8-bit, 4-band orthorectified aerial image map products in GeoTIFF version 6.0 file format. GeoTIFF files are uncompressed raster images complete with TFW coordinate information. The aerial imagery project encompasses the entire land area of the County of Loudoun, VA. Images were flown during leaf-off conditions and cover 5000' by 5000' and are tiled according to the VBMP 200-scale gridding schema (Virginia Geographic Information Network).\"March 2016 Photography flown by the Sanborn Map Company, Colorado Springs, CO.\" \"Digital Orthophotography compiled by Sanborn Map Company, Colorado Springs, CO\"",
  "Subject": "Loudoun County Aerial Imagery 2016",
  "Category": "",
  "AntialiasingMode": "None",
  "TextAntialiasingMode": "Force",
  "Version": "2.9.0",
  "Keywords": "Loudoun County,Virginia,aerial,image,photo,2016"
 },
 "supportsQueryDomains": true,
 "capabilities": "Map,Query,Data",
 "supportedQueryFormats": "JSON, geoJSON, PBF",
 "exportTilesAllowed": false,
 "referenceScale": 0.0,
 "datumTransformations": [
  {
   "geoTransforms": [
    {
     "wkid": 108001,
     "latestWkid": 1241,
     "transformForward": true,
     "name": "NAD_1927_To_NAD_1983_NADCON"
    }
   ]
  },
  {
   "geoTransforms": [
    {
     "wkid": 108001,
     "latestWkid": 1241,
     "transformForward": false,
     "name": "NAD_1927_To_NAD_1983_NADCON"
    }
   ]
  }
 ],
 "supportsDatumTransformation": true,
 "archivingInfo": {
  "supportsHistoricMoment": false
 },
 "supportsClipping": true,
 "supportsSpatialFilter": true,
 "supportsTimeRelation": true,
 "supportsQueryDataElements": true,
 "maxRecordCount": 1000,
 "maxImageHeight": 4096,
 "maxImageWidth": 4096,
 "supportedExtensions": "",
 "resampling": false
}
