{ "currentVersion": 10.91, "serviceDescription": "
Loudoun County annually obtains leaf-off, aerial imagery in the spring. Since 2004, the County has utilized this imagery to support the development of an annual digital orthophoto base. In 2022, the imagery was captured with a Vexcel Ultracam Eagle digital camera, in 4-band (R,G,B, and NIR) format. These files contain 1-foot ground-resolution, 8-bit, 4-band orthorectified aerial image map products in GeoTIFF version 6.0 file format. GeoTIFF files are uncompressed raster images complete with TFW coordinate information. The aerial imagery project encompasses the entire land area of the County of Loudoun, VA. Images were flown during leaf-off conditions and cover 5000' by 5000' and are tiled according to the VBMP 200-scale gridding schema (Virginia Geographic Information Network).<\/span><\/p><\/div><\/div>",
"name": "Aerial/COLOR_2022_CACHED",
"description": " Loudoun County annually obtains leaf-off, aerial imagery in the spring. Since 2004, the County has utilized this imagery to support the development of an annual digital orthophoto base. In 2022, the imagery was captured with a Vexcel Ultracam Eagle digital camera, in 4-band (R,G,B, and NIR) format. These files contain 1-foot ground-resolution, 8-bit, 4-band orthorectified aerial image map products in GeoTIFF version 6.0 file format. GeoTIFF files are uncompressed raster images complete with TFW coordinate information. The aerial imagery project encompasses the entire land area of the County of Loudoun, VA. Images were flown during leaf-off conditions and cover 5000' by 5000' and are tiled according to the VBMP 200-scale gridding schema (Virginia Geographic Information Network).<\/span><\/p><\/div><\/div>",
"extent": {
"xmin": 11630000,
"ymin": 6990000,
"xmax": 11820000,
"ymax": 7170000,
"spatialReference": {
"wkid": 2924,
"latestWkid": 2924
}
},
"initialExtent": {
"xmin": 11630000,
"ymin": 6990000,
"xmax": 11820000,
"ymax": 7170000,
"spatialReference": {
"wkid": 2924,
"latestWkid": 2924
}
},
"fullExtent": {
"xmin": 11630000,
"ymin": 6990000,
"xmax": 11820000,
"ymax": 7170000,
"spatialReference": {
"wkid": 2924,
"latestWkid": 2924
}
},
"hasMultidimensions": false,
"pixelSizeX": 1,
"pixelSizeY": 1,
"datasetFormat": "AMD",
"uncompressedSize": 136800000000,
"blockWidth": 2048,
"blockHeight": 256,
"compressionType": "None",
"bandNames": [
"Band_1",
"Band_2",
"Band_3",
"Band_4"
],
"allowCopy": true,
"allowAnalysis": true,
"bandCount": 4,
"pixelType": "U8",
"minPixelSize": 0.5208333333333333,
"maxPixelSize": 434.02777777777777,
"copyrightText": "\"February 2022 Photography flown by the Sanborn Map Company, Colorado Springs, CO.\" \"Digital Orthophotography compiled by Sanborn Map Company, Colorado Springs, CO\"",
"serviceDataType": "esriImageServiceDataTypeGeneric",
"serviceSourceType": "esriImageServiceSourceTypeMosaicDataset",
"minValues": [
0,
20,
46,
0
],
"maxValues": [
251,
251,
251,
251
],
"meanValues": [
119.71351375151659,
113.93344994736354,
110.45921777870129,
150.26971264114766
],
"stdvValues": [
39.37955782674088,
31.92746548214332,
22.93613251807579,
37.273645364116966
],
"objectIdField": "OBJECTID",
"fields": [
{
"name": "OBJECTID",
"type": "esriFieldTypeOID",
"alias": "OBJECTID",
"domain": null
},
{
"name": "Name",
"type": "esriFieldTypeString",
"alias": "Name",
"domain": null,
"length": 200
},
{
"name": "MinPS",
"type": "esriFieldTypeDouble",
"alias": "MinPS",
"domain": null
},
{
"name": "MaxPS",
"type": "esriFieldTypeDouble",
"alias": "MaxPS",
"domain": null
},
{
"name": "LowPS",
"type": "esriFieldTypeDouble",
"alias": "LowPS",
"domain": null
},
{
"name": "HighPS",
"type": "esriFieldTypeDouble",
"alias": "HighPS",
"domain": null
},
{
"name": "Category",
"type": "esriFieldTypeInteger",
"alias": "Category",
"domain": {
"type": "codedValue",
"name": "MosaicCatalogItemCategoryDomain",
"description": "Catalog item categories.",
"codedValues": [
{
"name": "Unknown",
"code": 0
},
{
"name": "Primary",
"code": 1
},
{
"name": "Overview",
"code": 2
},
{
"name": "Unprocessed Overview",
"code": 3
},
{
"name": "Partial Overview",
"code": 4
},
{
"name": "Uploaded",
"code": 253
},
{
"name": "Incomplete",
"code": 254
},
{
"name": "Custom",
"code": 255
}
],
"mergePolicy": "esriMPTDefaultValue",
"splitPolicy": "esriSPTDefaultValue"
}
},
{
"name": "Tag",
"type": "esriFieldTypeString",
"alias": "Tag",
"domain": null,
"length": 100
},
{
"name": "GroupName",
"type": "esriFieldTypeString",
"alias": "GroupName",
"domain": null,
"length": 100
},
{
"name": "ProductName",
"type": "esriFieldTypeString",
"alias": "ProductName",
"domain": null,
"length": 100
},
{
"name": "CenterX",
"type": "esriFieldTypeDouble",
"alias": "CenterX",
"domain": null
},
{
"name": "CenterY",
"type": "esriFieldTypeDouble",
"alias": "CenterY",
"domain": null
},
{
"name": "ZOrder",
"type": "esriFieldTypeInteger",
"alias": "ZOrder",
"domain": null
},
{
"name": "Shape",
"type": "esriFieldTypeGeometry",
"alias": "Shape",
"domain": null
},
{
"name": "Shape.STArea()",
"type": "esriFieldTypeDouble",
"alias": "Shape.STArea()",
"domain": null
},
{
"name": "Shape.STLength()",
"type": "esriFieldTypeDouble",
"alias": "Shape.STLength()",
"domain": null
}
],
"capabilities": "Catalog,Mensuration,Image,Metadata",
"defaultMosaicMethod": "Northwest",
"allowedMosaicMethods": "NorthWest,Center,LockRaster,ByAttribute,Nadir,Viewpoint,Seamline,None",
"sortField": "",
"sortValue": null,
"sortAscending": true,
"mosaicOperator": "First",
"maxDownloadSizeLimit": 2048,
"defaultCompressionQuality": 75,
"defaultResamplingMethod": "Bilinear",
"maxImageHeight": 4100,
"maxImageWidth": 15000,
"maxRecordCount": 1000,
"maxDownloadImageCount": 20,
"maxMosaicImageCount": 42,
"singleFusedMapCache": true,
"tileInfo": {
"rows": 256,
"cols": 256,
"dpi": 96,
"format": "MIXED",
"compressionQuality": 75,
"origin": {
"x": -110512500,
"y": 155132800
},
"spatialReference": {
"wkid": 2924,
"latestWkid": 2924
},
"lods": [
{
"level": 0,
"resolution": 434.02777777777777,
"scale": 500000
},
{
"level": 1,
"resolution": 347.22222222222223,
"scale": 400000
},
{
"level": 2,
"resolution": 217.01388888888889,
"scale": 250000
},
{
"level": 3,
"resolution": 108.50694444444444,
"scale": 125000
},
{
"level": 4,
"resolution": 55.55555555555555,
"scale": 64000
},
{
"level": 5,
"resolution": 27.777777777777775,
"scale": 32000
},
{
"level": 6,
"resolution": 13.888888888888888,
"scale": 16000
},
{
"level": 7,
"resolution": 6.25,
"scale": 7200
},
{
"level": 8,
"resolution": 4.166666666666666,
"scale": 4800
},
{
"level": 9,
"resolution": 2.083333333333333,
"scale": 2400
},
{
"level": 10,
"resolution": 1.0416666666666665,
"scale": 1200
},
{
"level": 11,
"resolution": 0.5208333333333333,
"scale": 600
}
]
},
"storageInfo": {
"storageFormat": "esriMapCacheStorageModeCompactV2",
"packetSize": 128
},
"cacheType": "Map",
"allowRasterFunction": true,
"rasterFunctionInfos": [
{
"name": "None",
"description": "Make a Raster or Raster Dataset into a Function Raster Dataset.",
"help": ""
}
],
"rasterTypeInfos": [
{
"name": "Raster Dataset",
"description": "Supports all ArcGIS Raster Datasets",
"help": ""
}
],
"mensurationCapabilities": "NONE",
"hasHistograms": true,
"hasColormap": false,
"hasRasterAttributeTable": false,
"minScale": 500000,
"maxScale": 600,
"minLOD": 0,
"maxLOD": 11,
"exportTilesAllowed": false,
"supportsStatistics": true,
"supportsAdvancedQueries": true,
"editFieldsInfo": null,
"ownershipBasedAccessControlForRasters": null,
"allowComputeTiePoints": false,
"useStandardizedQueries": true,
"advancedQueryCapabilities": {
"useStandardizedQueries": true,
"supportsStatistics": true,
"supportsOrderBy": true,
"supportsDistinct": true,
"supportsPagination": true
},
"spatialReference": {
"wkid": 2924,
"latestWkid": 2924
}
}