<?xml version="1.0" encoding="UTF-8" standalone="no"?>
<metadata xml:lang="en">
<Esri>
<CreaDate>20180627</CreaDate>
<CreaTime>11414600</CreaTime>
<ArcGISFormat>1.0</ArcGISFormat>
<SyncOnce>FALSE</SyncOnce>
<DataProperties>
<lineage>
<Process Date="20180627" Time="114146" ToolSource="c:\program files (x86)\arcgis\desktop10.6\ArcToolbox\Toolboxes\Data Management Tools.tbx\CreateMosaicDataset">CreateMosaicDataset "Database Connections\gimage_gissqlclust01.sde" COLOR_2013 "PROJCS['NAD_1983_HARN_StatePlane_Virginia_North_FIPS_4501_Feet',GEOGCS['GCS_North_American_1983_HARN',DATUM['D_North_American_1983_HARN',SPHEROID['GRS_1980',6378137.0,298.257222101]],PRIMEM['Greenwich',0.0],UNIT['Degree',0.0174532925199433]],PROJECTION['Lambert_Conformal_Conic'],PARAMETER['False_Easting',11482916.66666666],PARAMETER['False_Northing',6561666.666666666],PARAMETER['Central_Meridian',-78.5],PARAMETER['Standard_Parallel_1',38.03333333333333],PARAMETER['Standard_Parallel_2',39.2],PARAMETER['Latitude_Of_Origin',37.66666666666666],UNIT['Foot_US',0.3048006096012192]];-110512500 -88858000 3048.00609601219;-100000 10000;-100000 10000;3.28083333333333E-03;0.001;0.001;IsHighPrecision" # # NONE #</Process>
<Process Date="20180627" Time="145635" ToolSource="c:\program files (x86)\arcgis\desktop10.6\ArcToolbox\Toolboxes\Data Management Tools.tbx\BuildOverviews">BuildOverviews "Database Connections\gimage_gissqlclust01.sde\GISIMAGE.GIMAGE.COLOR_2013" # DEFINE_MISSING_TILES GENERATE_OVERVIEWS GENERATE_MISSING_IMAGES REGENERATE_STALE_IMAGES</Process>
<Process Date="20180627" Time="151630" ToolSource="c:\program files (x86)\arcgis\desktop10.6\ArcToolbox\Toolboxes\Data Management Tools.tbx\AnalyzeMosaicDataset">AnalyzeMosaicDataset "Database Connections\gimage_gissqlclust01.sde\GISIMAGE.GIMAGE.COLOR_2013" # FOOTPRINT;FUNCTION;RASTER;PATHS</Process>
</lineage>
<itemProps>
<itemName Sync="TRUE">GISIMAGE.GIMAGE.COLOR_2013</itemName>
<itemLocation>
<linkage Sync="TRUE">Server=gissqldblis; Service=sde:sqlserver:gissqldblis; Database=GISIMAGE; User=gimage; Version=sde.DEFAULT</linkage>
<protocol Sync="TRUE">ArcSDE Connection</protocol>
</itemLocation>
<nativeExtBox>
<westBL Sync="TRUE">11630000.000000</westBL>
<eastBL Sync="TRUE">11820000.000000</eastBL>
<southBL Sync="TRUE">6990000.000000</southBL>
<northBL Sync="TRUE">7170000.000000</northBL>
<exTypeCode Sync="TRUE">1</exTypeCode>
</nativeExtBox>
</itemProps>
<coordRef>
<type Sync="TRUE">Projected</type>
<geogcsn Sync="TRUE">GCS_North_American_1983_HARN</geogcsn>
<csUnits Sync="TRUE">Linear Unit: Foot_US (0.304801)</csUnits>
<projcsn Sync="TRUE">NAD_1983_HARN_StatePlane_Virginia_North_FIPS_4501_Feet</projcsn>
<peXml Sync="TRUE">&lt;ProjectedCoordinateSystem xsi:type='typens:ProjectedCoordinateSystem' xmlns:xsi='http://www.w3.org/2001/XMLSchema-instance' xmlns:xs='http://www.w3.org/2001/XMLSchema' xmlns:typens='http://www.esri.com/schemas/ArcGIS/10.7'&gt;&lt;WKT&gt;PROJCS[&amp;quot;NAD_1983_HARN_StatePlane_Virginia_North_FIPS_4501_Feet&amp;quot;,GEOGCS[&amp;quot;GCS_North_American_1983_HARN&amp;quot;,DATUM[&amp;quot;D_North_American_1983_HARN&amp;quot;,SPHEROID[&amp;quot;GRS_1980&amp;quot;,6378137.0,298.257222101]],PRIMEM[&amp;quot;Greenwich&amp;quot;,0.0],UNIT[&amp;quot;Degree&amp;quot;,0.0174532925199433]],PROJECTION[&amp;quot;Lambert_Conformal_Conic&amp;quot;],PARAMETER[&amp;quot;False_Easting&amp;quot;,11482916.66666666],PARAMETER[&amp;quot;False_Northing&amp;quot;,6561666.666666666],PARAMETER[&amp;quot;Central_Meridian&amp;quot;,-78.5],PARAMETER[&amp;quot;Standard_Parallel_1&amp;quot;,38.03333333333333],PARAMETER[&amp;quot;Standard_Parallel_2&amp;quot;,39.2],PARAMETER[&amp;quot;Latitude_Of_Origin&amp;quot;,37.66666666666666],UNIT[&amp;quot;Foot_US&amp;quot;,0.3048006096012192],AUTHORITY[&amp;quot;EPSG&amp;quot;,2924]]&lt;/WKT&gt;&lt;XOrigin&gt;-110512500&lt;/XOrigin&gt;&lt;YOrigin&gt;-88858000&lt;/YOrigin&gt;&lt;XYScale&gt;36916142.964165002&lt;/XYScale&gt;&lt;ZOrigin&gt;-100000&lt;/ZOrigin&gt;&lt;ZScale&gt;10000&lt;/ZScale&gt;&lt;MOrigin&gt;-100000&lt;/MOrigin&gt;&lt;MScale&gt;10000&lt;/MScale&gt;&lt;XYTolerance&gt;0.0032808333333333331&lt;/XYTolerance&gt;&lt;ZTolerance&gt;0.001&lt;/ZTolerance&gt;&lt;MTolerance&gt;0.001&lt;/MTolerance&gt;&lt;HighPrecision&gt;true&lt;/HighPrecision&gt;&lt;WKID&gt;2924&lt;/WKID&gt;&lt;LatestWKID&gt;2924&lt;/LatestWKID&gt;&lt;/ProjectedCoordinateSystem&gt;</peXml>
</coordRef>
<RasterProperties>
<General>
<PixelDepth Sync="TRUE">8</PixelDepth>
<HasColormap Sync="TRUE">FALSE</HasColormap>
<CompressionType Sync="TRUE">None</CompressionType>
<NumBands Sync="TRUE">4</NumBands>
<Format Sync="TRUE">AMD</Format>
<HasPyramids Sync="TRUE">TRUE</HasPyramids>
<SourceType Sync="TRUE">continuous</SourceType>
<PixelType Sync="TRUE">unsigned integer</PixelType>
<NoDataValue Sync="TRUE"/>
</General>
<Properties>
<MaxImageHeight Sync="TRUE">4100</MaxImageHeight>
<MaxImageWidth Sync="TRUE">15000</MaxImageWidth>
<MaxRecordCount Sync="TRUE">1000</MaxRecordCount>
<MaxDownloadImageCount Sync="TRUE">20</MaxDownloadImageCount>
<MaxDownloadSizeLimit Sync="TRUE">2048</MaxDownloadSizeLimit>
<MaxMosaicImageCount Sync="TRUE">20</MaxMosaicImageCount>
<DefaultCompressionQuality Sync="TRUE">75</DefaultCompressionQuality>
<DefaultCompressionTolerance Sync="TRUE">0.01</DefaultCompressionTolerance>
<BlendWidth Sync="TRUE">10</BlendWidth>
<ViewpointSpacingX Sync="TRUE">600</ViewpointSpacingX>
<ViewpointSpacingY Sync="TRUE">300</ViewpointSpacingY>
<AllowedItemMetadata Sync="TRUE">Basic</AllowedItemMetadata>
<DefaultResamplingMethod Sync="TRUE">1</DefaultResamplingMethod>
<AllowedMosaicMethods Sync="TRUE">NorthWest,Center,LockRaster,ByAttribute,Nadir,Viewpoint,Seamline,None</AllowedMosaicMethods>
<AllowedCompressions Sync="TRUE">None,JPEG,LZ77,LERC</AllowedCompressions>
<AllowedMensurationCapabilities Sync="TRUE">None</AllowedMensurationCapabilities>
<AvailableMensurationCapabilities Sync="TRUE">None,Basic,Base-Top Height,Top-Top Shadow Height,Base-Top Shadow Height,3D</AvailableMensurationCapabilities>
<ClipToBoundary Sync="TRUE">-1</ClipToBoundary>
<FootprintMayContainNoData Sync="TRUE">-1</FootprintMayContainNoData>
<CellSizeTolerance Sync="TRUE">0.8</CellSizeTolerance>
<MinimumPixelContribution Sync="TRUE">1</MinimumPixelContribution>
<AvailableMosaicMethods Sync="TRUE">NorthWest,Center,LockRaster,ByAttribute,Nadir,Viewpoint,Seamline,None</AvailableMosaicMethods>
<AvailableCompressionMethods Sync="TRUE">None,JPEG,LZ77,LERC</AvailableCompressionMethods>
<AvailableItemMetadataLevels Sync="TRUE">None,Basic,Full</AvailableItemMetadataLevels>
<BandDefinitionKeyword Sync="TRUE">NONE</BandDefinitionKeyword>
<AllowedFields Sync="TRUE">Name,MinPS,MaxPS,LowPS,HighPS,Tag,GroupName,ProductName,CenterX,CenterY,ZOrder,Shape.STArea(),Shape.STLength()</AllowedFields>
<MaxCellSize Sync="TRUE">36450</MaxCellSize>
<LowCellSize Sync="TRUE">0.5</LowCellSize>
<HighCellSize Sync="TRUE">729</HighCellSize>
<ApplyColorCorrection Sync="TRUE">0</ApplyColorCorrection>
</Properties>
<Functions Sync="TRUE">
<Function Description="Performs on-the-fly mosaic on a raster catalog." Name="Mosaic Function"/>
</Functions>
</RasterProperties>
</DataProperties>
<SyncDate>20211109</SyncDate>
<SyncTime>20224000</SyncTime>
<ModDate>20211109</ModDate>
<ModTime>20224000</ModTime>
</Esri>
<mdLang>
<languageCode value="eng"/>
<countryCode Sync="TRUE" value="USA"/>
</mdLang>
<mdChar>
<CharSetCd value="004"/>
</mdChar>
<mdHrLv>
<ScopeCd value="005"/>
</mdHrLv>
<mdContact>
<rpIndName>Wendy Stout</rpIndName>
<rpOrgName>Virginia Geographic Information Network</rpOrgName>
<rpPosName>VBMP Project Manager</rpPosName>
<rpCntInfo>
<cntPhone>
<voiceNum>804-416-6209</voiceNum>
</cntPhone>
<cntAddress addressType="both">
<delPoint>11751 Meadowville Lane</delPoint>
<city>Chester</city>
<adminArea>VA</adminArea>
<postCode>23836</postCode>
<eMailAdd>wendy.stout@vita.virginia.gov</eMailAdd>
</cntAddress>
</rpCntInfo>
<role>
<RoleCd value="007"/>
</role>
</mdContact>
<mdStanName>ArcGIS Metadata</mdStanName>
<mdStanVer>1.0</mdStanVer>
<distInfo>
<distributor>
<distorCont>
<rpIndName>VGIN Coordinator</rpIndName>
<rpOrgName>Virginia Geographic Information Network</rpOrgName>
<rpPosName>VGIN Coordinator</rpPosName>
<rpCntInfo>
<cntPhone>
<voiceNum>804-416-6198</voiceNum>
</cntPhone>
<cntAddress addressType="both">
<delPoint>11751 Meadowville Lane</delPoint>
<city>Chester</city>
<adminArea>VA</adminArea>
<postCode>23836</postCode>
<eMailAdd>vbmp@vgin.virginia.gov</eMailAdd>
</cntAddress>
</rpCntInfo>
<role>
<RoleCd value="005"/>
</role>
</distorCont>
<distorOrdPrc>
<resFees>variable</resFees>
</distorOrdPrc>
<distorFormat>
<formatName>TIFF</formatName>
<fileDecmTech>no compression applied</fileDecmTech>
</distorFormat>
<distorTran>
<transSize>95.37</transSize>
</distorTran>
</distributor>
<distTranOps>
<onLineSrc>
<linkage>http://www.vita.virginia.gov/isp/default.aspx?id=12118</linkage>
</onLineSrc>
</distTranOps>
</distInfo>
<dataIdInfo>
<idCitation>
<date>
<pubDate>2013-10-31</pubDate>
</date>
<resEd>2013</resEd>
<citRespParty>
<rpOrgName>Virginia Geographic Information Network (VGIN)</rpOrgName>
<role>
<RoleCd value="006"/>
</role>
</citRespParty>
<citRespParty>
<rpOrgName>Virginia Geographic Information Network (VGIN)</rpOrgName>
<rpCntInfo>
<cntAddress>
<delPoint>Richmond, Virginia</delPoint>
</cntAddress>
</rpCntInfo>
<role>
<RoleCd value="010"/>
</role>
</citRespParty>
<presForm>
<PresFormCd value="005"/>
</presForm>
<presForm>
<fgdcGeoform>remote-sensing image</fgdcGeoform>
</presForm>
<datasetSeries>
<seriesName>Virginia Base Map Program</seriesName>
<issId>2013</issId>
</datasetSeries>
<collTitle>Virginia Base Map Program</collTitle>
<resTitle Sync="TRUE">COLOR_2013</resTitle>
</idCitation>
<idAbs>&lt;DIV STYLE="text-align:Left;"&gt;&lt;DIV&gt;&lt;DIV&gt;&lt;P&gt;&lt;SPAN&gt;In the spring of 2013, the Commonwealth of Virginia, through the Virginia Geographic Information Network Division (herein referred to as VGIN) of the Virginia Information Technologies Agency (VITA) contracted with the Sanborn Map Company to provide aerial data acquisition, ground control, aerial triangulation and development of statewide DTM and digital orthophotography data. The Virginia Base Mapping Program (VBMP) update project is divided into two collection phases: the Eastern half was collected in Spring 2013 and the Western half will be collected in Spring 2015. Ortho products are 1-foot resolution statewide ortho-imagery with upgrades to 6-inch resolution tiles and 3-inch resolution tiles in various regions within the project area. All data acquired in 2013 is jurisdiction based and is in the eastern half of the state. The Virginia Base Mapping project encompasses the entire land area of the Commonwealth of Virginia over 4 years. The State boundary is buffered by 1000'. Coastal areas of the State bordering the Atlantic Ocean or the Chesapeake Bay are buffered by 1000' or the extent of man-made features extending from shore.&lt;/SPAN&gt;&lt;/P&gt;&lt;/DIV&gt;&lt;/DIV&gt;&lt;/DIV&gt;</idAbs>
<idPurp>The collection of aerial photography, update of the DTM surface and production of orthophotography was executed to capture the existing ground conditions at a specific point in time for the purpose of GIS analysis. Orthophotography along with DTM data typically provides an accurate base for digitally representing geographic features upon which a GIS is built. The Virginia Geographic Information Network Division (VGIN) is the lead public agency in the Commonwealth for spatial data and GIS. VGIN's mission is to facilitate the cost-effective development and use of spatial data, GIS, and related technologies in organizations throughout the Commonwealth.</idPurp>
<idStatus>
<ProgCd value="001"/>
</idStatus>
<idPoC>
<rpIndName>Wendy Stout</rpIndName>
<rpOrgName>VGIN</rpOrgName>
<rpPosName>VBMP Project Manager</rpPosName>
<rpCntInfo>
<cntPhone>
<voiceNum>804-416-6209</voiceNum>
</cntPhone>
<cntAddress addressType="both">
<delPoint>11751 Meadowville Lane</delPoint>
<city>Chester</city>
<adminArea>VA</adminArea>
<postCode>23836</postCode>
<eMailAdd>wendy.stout@vita.virginia.gov</eMailAdd>
</cntAddress>
</rpCntInfo>
<role>
<RoleCd value="007"/>
</role>
</idPoC>
<resMaint>
<maintFreq>
<MaintFreqCd value="010"/>
</maintFreq>
</resMaint>
<placeKeys>
<keyword>USA</keyword>
<keyword>Virginia</keyword>
<keyword>Commonwealth of Virginia</keyword>
</placeKeys>
<themeKeys>
<keyword>raster</keyword>
<keyword>imagery</keyword>
<keyword>orthophotography</keyword>
</themeKeys>
<searchKeys>
<keyword>Raster</keyword>
<keyword>USA</keyword>
<keyword>Virginia</keyword>
<keyword>Commonwealth of Virginia</keyword>
<keyword>Imagery</keyword>
<keyword>Orthophotography</keyword>
</searchKeys>
<resConst>
<LegConsts>
<useLimit>ALL DATA IS PROVIDED "AS IS." The Commonwealth of Virginia, the Virginia Geographic Information Network and their respective, officers, agents and employees jointly and severally disclaim any and all representations or warranties, express or implied, written or oral, in fact or arising by operation of law, including any warranties of merchantability, fitness for a particular purpose, ACCURACY, CURRENCY, commercial value, or freedom of data from infringement of any THIRD PARTY intellectual property rights. Pursuant to Section 54.1-402, paragraph C of the Code of Virginia, which is quoted below, this data may not be used for purposes listed in said paragraph C, since the data was not created, nor is it maintained under the supervision of a licensed land surveyor. C. Persons utilizing photogrammetric methods or similar remote sensing technology shall not be required to be licensed as a land surveyor pursuant to subsection B of § 54.1-404 or 54.1-406 to: (i) determine topography or contours, or to depict physical improvements, provided such maps or other documents shall not be used for the design, modification, or construction of improvements to real property or for flood plain determination, or (ii) graphically show existing property lines and boundaries on maps or other documents provided such depicted property lines and boundaries shall only be used for general information. Any determination of topography or contours, or depiction of physical improvements, utilizing photogrammetric methods or similar remote sensing technology by persons not licensed as a land surveyor pursuant to § 54.1-406 shall not show any property monumentation or property metes and bounds, nor provide any measurement showing the relationship of any physical improvements to any property line or boundary. Any person not licensed pursuant to subsection B of § 54.1-404 or 54.1-406 preparing documentation pursuant to subsection C of § 54.1-402 shall note the following on such documentation: "Any determination of topography or contours, or any depiction of physical improvements, property lines or boundaries is for general information only and shall not be used for the design, modification, or construction of improvements to real property or for flood plain determination.&#148;</useLimit>
<othConsts>Contact VGIN for information about regional and statewide VBMP datasets. For information about local datasets, contact the appropriate locality.</othConsts>
</LegConsts>
</resConst>
<resConst>
<Consts>
<useLimit>&lt;DIV STYLE="text-align:Left;"&gt;&lt;DIV&gt;&lt;DIV&gt;&lt;P&gt;&lt;SPAN&gt;This VBMP data has been developed using procedures designed to produce data to comply with the Model Virginia Map Accuracy Standards (1992) and is intended for use at 1" = 100' or 1" = 200' scale. Pursuant to Section 54.1-402, paragraph C of the Code of Virginia, which is quoted below, this data may not be used for purposes listed in said paragraph C, since the data was not created, nor is it maintained under the supervision of a licensed land surveyor. C. Persons utilizing photogrammetric methods or similar remote sensing technology shall not be required to be licensed as a land surveyor pursuant to subsection B of § 54.1-404 or 54.1-406 to: (i) determine topography or contours, or to depict physical improvements, provided such maps or other documents shall not be used for the design, modification, or construction of improvements to real property or for flood plain determination, or (ii) graphically show existing property lines and boundaries on maps or other documents provided such depicted property lines and boundaries shall only be used for general information. Any determination of topography or contours, or depiction of physical improvements, utilizing photogrammetric methods or similar remote sensing technology by persons not licensed as a land surveyor pursuant to § 54.1-406 shall not show any property monumentation or property metes and bounds, nor provide any measurement showing the relationship of any physical improvements to any property line or boundary. Any person not licensed pursuant to subsection B of § 54.1-404 or 54.1-406 preparing documentation pursuant to subsection C of § 54.1-402 shall note the following on such documentation: "Any determination of topography or contours, or any depiction of physical improvements, property lines or boundaries is for general information only and shall not be used for the design, modification, or construction of improvements to real property or for flood plain determination. It is requested that the Commonwealth of Virginia be cited for any use of the orthophotography as follows: "Imagery Courtesy of the Commonwealth of Virginia".&lt;/SPAN&gt;&lt;/P&gt;&lt;/DIV&gt;&lt;/DIV&gt;&lt;/DIV&gt;</useLimit>
</Consts>
</resConst>
<aggrInfo>
<aggrDSName>
<resTitle>Virginia Base Map Program</resTitle>
<date>
<pubDate date="unknown"/>
</date>
<citRespParty>
<rpOrgName>Virginia Geographic Information Network (VGIN)</rpOrgName>
<role>
<RoleCd value="006"/>
</role>
</citRespParty>
</aggrDSName>
<assocType>
<AscTypeCd value="002"/>
</assocType>
</aggrInfo>
<dataLang>
<languageCode value="eng"/>
<countryCode Sync="TRUE" value="USA"/>
</dataLang>
<dataExt>
<geoEle>
<GeoBndBox>
<westBL>-80.140166</westBL>
<eastBL>-76.455449</eastBL>
<southBL>37.727248</southBL>
<northBL>39.501769</northBL>
</GeoBndBox>
</geoEle>
</dataExt>
<dataExt>
<exDesc>ground condition</exDesc>
<tempEle>
<TempExtent>
<exTemp>
<TM_Period>
<tmBegin>2013-02-14</tmBegin>
<tmEnd>2013-04-19</tmEnd>
</TM_Period>
</exTemp>
</TempExtent>
</tempEle>
<geoEle/>
</dataExt>
<suppInfo>The entire State was initially designed to support 1-foot resolution statewide ortho-imagery at 1"= 200' (1:2400) scale mapping. Jurisdictions throughout the State were provided an option to upgrade to 6-inch resolution tiles and 3-inch resolution at 1"=100' (1:1200) map scale. All digital ortho-imagery and development processes for the VBMP shall conform to the ASPRS Draft Aerial Photography Standards (1995) and Model Virginia Map Accuracy Standards (1992), which generally follow the ASPRS Accuracy Standard for Large-Scale Mapping (1990) for all imagery at the scales indicated except for the changes specified in this document. Accuracy will be tested and reported according to NSSDA Geospatial Positioning Accuracy Standards Part 3: National Standard for Spatial Data Accuracy Class 1.</suppInfo>
<tpCat>
<TopicCatCd value="010"/>
</tpCat>
<envirDesc Sync="TRUE"> Version 6.2 (Build 9200) ; Esri ArcGIS 10.7.1.11595</envirDesc>
<spatRpType>
<SpatRepTypCd Sync="TRUE" value="002"/>
</spatRpType>
<dataExt>
<geoEle>
<GeoBndBox esriExtentType="search">
<exTypeCode Sync="TRUE">1</exTypeCode>
<westBL Sync="TRUE">-77.983601</westBL>
<eastBL Sync="TRUE">-77.308375</eastBL>
<northBL Sync="TRUE">39.335910</northBL>
<southBL Sync="TRUE">38.836886</southBL>
</GeoBndBox>
</geoEle>
</dataExt>
<idCredit/>
</dataIdInfo>
<dqInfo>
<dqScope>
<scpLvl>
<ScopeCd value="005"/>
</scpLvl>
</dqScope>
<report type="DQConcConsis">
<measDesc>All image tiles have been checked for proper spatial reference and conformance to the revised quality acceptance criteria adopted in the Commonwealth of Virginia Digital Orthoimagery and Digital Terrain Model Production Services Contract (Contract# VA-081223-SANB)</measDesc>
</report>
<report type="DQCompOm">
<measDesc>This dataset includes a total of approximately 5,067 total images in the Virginia North State Plane Zone for 1' = 200' scale imagery. Complete coverage is provided for all project areas unless an area is covered by imagery at the 1' = 100" scale. Approximately 600 tiles were caputured due to leaf-on conditions, and will be produced in the 2014 flying season.</measDesc>
</report>
<report dimension="horizontal" type="DQAbsExtPosAcc">
<measDesc>These data were complied to meet the Commonwealth of Virginia Standard for Class 1 Map Accuracy as of November 1, 2013. For the 1"=200' scale: RMSEx &lt;= 2.0 feet, RMSEy &lt;= 2.0 feet, RMSEr &lt;= 2.83 feet, Accuracy r &lt;= 4.90 ft at the 95% confidence level. For the 1"=100' scale: RMSEx &lt;= 1.0 feet, RMSEy &lt;= 1.0 feet, RMSEr &lt;= 1.42 feet, Accuracy r &lt;= 2.45 ft at the 95% confidence level.</measDesc>
</report>
</dqInfo>
<spatRepInfo>
<Georect>
<numDims Sync="TRUE">2</numDims>
<axisDimension type="001">
<dimSize Sync="TRUE">360000</dimSize>
<dimResol>
<value Sync="TRUE" uom="ftUS">0.500000</value>
</dimResol>
</axisDimension>
<axisDimension type="002">
<dimSize Sync="TRUE">380000</dimSize>
<dimResol>
<value Sync="TRUE" uom="ftUS">0.500000</value>
</dimResol>
</axisDimension>
<cellGeo>
<CellGeoCd Sync="TRUE" value="002"/>
</cellGeo>
<tranParaAv Sync="TRUE">1</tranParaAv>
<chkPtAv Sync="TRUE">0</chkPtAv>
<cornerPts>
<pos Sync="TRUE">11630000.000000 6990000.000000</pos>
</cornerPts>
<cornerPts>
<pos Sync="TRUE">11630000.000000 7170000.000000</pos>
</cornerPts>
<cornerPts>
<pos Sync="TRUE">11820000.000000 7170000.000000</pos>
</cornerPts>
<cornerPts>
<pos Sync="TRUE">11820000.000000 6990000.000000</pos>
</cornerPts>
<centerPt>
<pos Sync="TRUE">11725000.000000 7080000.000000</pos>
</centerPt>
<ptInPixel>
<PixOrientCd Sync="TRUE" value="001"/>
</ptInPixel>
</Georect>
</spatRepInfo>
<eainfo>
<overview>
<eaover>Reflectance values for visible and near infra-red light caputured by the Z/I Imaging Digital Mapping Camera (DMC) and expressed as four-band orthorectified imagery.</eaover>
<eadetcit>Detailed specifications and acceptance criteria can be found in the Commonwealth of Virginia Digital Orthoimagery and Digital Terrain Model Production Serviices Contract (Contract# VVA-121207-SANB)</eadetcit>
</overview>
</eainfo>
<refSysInfo>
<RefSystem>
<refSysID>
<identCode Sync="TRUE" code="2924"/>
<idCodeSpace Sync="TRUE">EPSG</idCodeSpace>
<idVersion Sync="TRUE">8.9.3(9.0.0)</idVersion>
</refSysID>
</RefSystem>
</refSysInfo>
<contInfo>
<ImgDesc>
<contentTyp>
<ContentTypCd Sync="TRUE" value="001"/>
</contentTyp>
<covDim>
<Band>
<dimDescrp Sync="TRUE">Band_1</dimDescrp>
<maxVal Sync="TRUE">246.000000</maxVal>
<minVal Sync="TRUE">32.000000</minVal>
<bitsPerVal Sync="TRUE">8</bitsPerVal>
<valUnit>
<UOM type="length"/>
</valUnit>
</Band>
<Band>
<dimDescrp Sync="TRUE">Band_2</dimDescrp>
<maxVal Sync="TRUE">247.000000</maxVal>
<minVal Sync="TRUE">47.000000</minVal>
<bitsPerVal Sync="TRUE">8</bitsPerVal>
<valUnit>
<UOM type="length"/>
</valUnit>
</Band>
<Band>
<dimDescrp Sync="TRUE">Band_3</dimDescrp>
<maxVal Sync="TRUE">244.000000</maxVal>
<minVal Sync="TRUE">66.000000</minVal>
<bitsPerVal Sync="TRUE">8</bitsPerVal>
<valUnit>
<UOM type="length"/>
</valUnit>
</Band>
<Band>
<dimDescrp Sync="TRUE">Band_4</dimDescrp>
<maxVal Sync="TRUE">244.000000</maxVal>
<minVal Sync="TRUE">47.000000</minVal>
<bitsPerVal Sync="TRUE">8</bitsPerVal>
<valUnit>
