<?xml version="1.0" encoding="UTF-8" standalone="no"?>
<metadata xml:lang="en">
<Esri>
<CreaDate>20190921</CreaDate>
<CreaTime>19280800</CreaTime>
<ArcGISFormat>1.0</ArcGISFormat>
<SyncOnce>FALSE</SyncOnce>
<DataProperties>
<lineage>
<Process Date="20190921" Time="192808" ToolSource="c:\program files (x86)\arcgis\desktop10.7\ArcToolbox\Toolboxes\Data Management Tools.tbx\CreateMosaicDataset">CreateMosaicDataset "Database Connections\gissqldblis.sde" COLOR_2009 "PROJCS['NAD_1983_HARN_StatePlane_Virginia_North_FIPS_4501_Feet',GEOGCS['GCS_North_American_1983_HARN',DATUM['D_North_American_1983_HARN',SPHEROID['GRS_1980',6378137.0,298.257222101]],PRIMEM['Greenwich',0.0],UNIT['Degree',0.0174532925199433]],PROJECTION['Lambert_Conformal_Conic'],PARAMETER['False_Easting',11482916.66666666],PARAMETER['False_Northing',6561666.666666666],PARAMETER['Central_Meridian',-78.5],PARAMETER['Standard_Parallel_1',38.03333333333333],PARAMETER['Standard_Parallel_2',39.2],PARAMETER['Latitude_Of_Origin',37.66666666666666],UNIT['Foot_US',0.3048006096012192]];-110512500 -88858000 3048.00609601219;-100000 10000;-100000 10000;3.28083333333333E-03;0.001;0.001;IsHighPrecision" # # NONE #</Process>
<Process Date="20190921" Time="215354" ToolSource="c:\program files (x86)\arcgis\desktop10.7\ArcToolbox\Toolboxes\Data Management Tools.tbx\BuildOverviews">BuildOverviews "Database Connections\gissqldblis.sde\GISIMAGE.GIMAGE.COLOR_2009" # DEFINE_MISSING_TILES GENERATE_OVERVIEWS GENERATE_MISSING_IMAGES REGENERATE_STALE_IMAGES</Process>
<Process Date="20191024" Time="193500" ToolSource="c:\program files (x86)\arcgis\desktop10.7\ArcToolbox\Toolboxes\Data Management Tools.tbx\AnalyzeMosaicDataset">AnalyzeMosaicDataset "Database Connections\gimage_gissqldblis.sde\GISIMAGE.GIMAGE.COLOR_2009" # FOOTPRINT;FUNCTION;RASTER;PATHS</Process>
</lineage>
<itemProps>
<itemName Sync="TRUE">GISIMAGE.GIMAGE.COLOR_2009</itemName>
<itemLocation>
<linkage Sync="TRUE">Server=gissqldblis; Service=sde:sqlserver:gissqldblis; Database=GISIMAGE; User=gimage; Version=sde.DEFAULT</linkage>
<protocol Sync="TRUE">ArcSDE Connection</protocol>
</itemLocation>
<nativeExtBox>
<westBL Sync="TRUE">11630000.000000</westBL>
<eastBL Sync="TRUE">11820000.000000</eastBL>
<southBL Sync="TRUE">6990000.000000</southBL>
<northBL Sync="TRUE">7170000.000000</northBL>
<exTypeCode Sync="TRUE">1</exTypeCode>
</nativeExtBox>
<imsContentType>003</imsContentType>
</itemProps>
<coordRef>
<type Sync="TRUE">Projected</type>
<geogcsn Sync="TRUE">GCS_North_American_1983_HARN</geogcsn>
<csUnits Sync="TRUE">Linear Unit: Foot_US (0.304801)</csUnits>
<projcsn Sync="TRUE">NAD_1983_HARN_StatePlane_Virginia_North_FIPS_4501_Feet</projcsn>
<peXml Sync="TRUE">&lt;ProjectedCoordinateSystem xsi:type='typens:ProjectedCoordinateSystem' xmlns:xsi='http://www.w3.org/2001/XMLSchema-instance' xmlns:xs='http://www.w3.org/2001/XMLSchema' xmlns:typens='http://www.esri.com/schemas/ArcGIS/10.7'&gt;&lt;WKT&gt;PROJCS[&amp;quot;NAD_1983_HARN_StatePlane_Virginia_North_FIPS_4501_Feet&amp;quot;,GEOGCS[&amp;quot;GCS_North_American_1983_HARN&amp;quot;,DATUM[&amp;quot;D_North_American_1983_HARN&amp;quot;,SPHEROID[&amp;quot;GRS_1980&amp;quot;,6378137.0,298.257222101]],PRIMEM[&amp;quot;Greenwich&amp;quot;,0.0],UNIT[&amp;quot;Degree&amp;quot;,0.0174532925199433]],PROJECTION[&amp;quot;Lambert_Conformal_Conic&amp;quot;],PARAMETER[&amp;quot;False_Easting&amp;quot;,11482916.66666666],PARAMETER[&amp;quot;False_Northing&amp;quot;,6561666.666666666],PARAMETER[&amp;quot;Central_Meridian&amp;quot;,-78.5],PARAMETER[&amp;quot;Standard_Parallel_1&amp;quot;,38.03333333333333],PARAMETER[&amp;quot;Standard_Parallel_2&amp;quot;,39.2],PARAMETER[&amp;quot;Latitude_Of_Origin&amp;quot;,37.66666666666666],UNIT[&amp;quot;Foot_US&amp;quot;,0.3048006096012192],AUTHORITY[&amp;quot;EPSG&amp;quot;,2924]]&lt;/WKT&gt;&lt;XOrigin&gt;-110512500&lt;/XOrigin&gt;&lt;YOrigin&gt;-88858000&lt;/YOrigin&gt;&lt;XYScale&gt;36916142.964165002&lt;/XYScale&gt;&lt;ZOrigin&gt;-100000&lt;/ZOrigin&gt;&lt;ZScale&gt;10000&lt;/ZScale&gt;&lt;MOrigin&gt;-100000&lt;/MOrigin&gt;&lt;MScale&gt;10000&lt;/MScale&gt;&lt;XYTolerance&gt;0.0032808333333333331&lt;/XYTolerance&gt;&lt;ZTolerance&gt;0.001&lt;/ZTolerance&gt;&lt;MTolerance&gt;0.001&lt;/MTolerance&gt;&lt;HighPrecision&gt;true&lt;/HighPrecision&gt;&lt;WKID&gt;2924&lt;/WKID&gt;&lt;LatestWKID&gt;2924&lt;/LatestWKID&gt;&lt;/ProjectedCoordinateSystem&gt;</peXml>
</coordRef>
<RasterProperties>
<General>
<PixelDepth Sync="TRUE">8</PixelDepth>
<HasColormap Sync="TRUE">FALSE</HasColormap>
<CompressionType Sync="TRUE">None</CompressionType>
<NumBands Sync="TRUE">4</NumBands>
<Format Sync="TRUE">AMD</Format>
<HasPyramids Sync="TRUE">TRUE</HasPyramids>
<SourceType Sync="TRUE">continuous</SourceType>
<PixelType Sync="TRUE">unsigned integer</PixelType>
<NoDataValue Sync="TRUE"/>
</General>
<Properties>
<MaxImageHeight Sync="TRUE">4100</MaxImageHeight>
<MaxImageWidth Sync="TRUE">15000</MaxImageWidth>
<MaxRecordCount Sync="TRUE">1000</MaxRecordCount>
<MaxDownloadImageCount Sync="TRUE">20</MaxDownloadImageCount>
<MaxDownloadSizeLimit Sync="TRUE">2048</MaxDownloadSizeLimit>
<MaxMosaicImageCount Sync="TRUE">20</MaxMosaicImageCount>
<DefaultCompressionQuality Sync="TRUE">75</DefaultCompressionQuality>
<DefaultCompressionTolerance Sync="TRUE">0.01</DefaultCompressionTolerance>
<BlendWidth Sync="TRUE">10</BlendWidth>
<ViewpointSpacingX Sync="TRUE">600</ViewpointSpacingX>
<ViewpointSpacingY Sync="TRUE">300</ViewpointSpacingY>
<AllowedItemMetadata Sync="TRUE">Basic</AllowedItemMetadata>
<DefaultResamplingMethod Sync="TRUE">1</DefaultResamplingMethod>
<AllowedMosaicMethods Sync="TRUE">NorthWest,Center,LockRaster,ByAttribute,Nadir,Viewpoint,Seamline,None</AllowedMosaicMethods>
<AllowedCompressions Sync="TRUE">None,JPEG,LZ77,LERC</AllowedCompressions>
<AllowedMensurationCapabilities Sync="TRUE">None</AllowedMensurationCapabilities>
<AvailableMensurationCapabilities Sync="TRUE">None,Basic,Base-Top Height,Top-Top Shadow Height,Base-Top Shadow Height,3D</AvailableMensurationCapabilities>
<ClipToBoundary Sync="TRUE">-1</ClipToBoundary>
<FootprintMayContainNoData Sync="TRUE">-1</FootprintMayContainNoData>
<CellSizeTolerance Sync="TRUE">0.8</CellSizeTolerance>
<MinimumPixelContribution Sync="TRUE">1</MinimumPixelContribution>
<AvailableMosaicMethods Sync="TRUE">NorthWest,Center,LockRaster,ByAttribute,Nadir,Viewpoint,Seamline,None</AvailableMosaicMethods>
<AvailableCompressionMethods Sync="TRUE">None,JPEG,LZ77,LERC</AvailableCompressionMethods>
<AvailableItemMetadataLevels Sync="TRUE">None,Basic,Full</AvailableItemMetadataLevels>
<BandDefinitionKeyword Sync="TRUE">NONE</BandDefinitionKeyword>
<_docversion_ Sync="TRUE">10</_docversion_>
<AllowedFields Sync="TRUE">Name,MinPS,MaxPS,LowPS,HighPS,Tag,GroupName,ProductName,CenterX,CenterY,ZOrder,Shape.STArea(),Shape.STLength()</AllowedFields>
<MaxCellSize Sync="TRUE">36450</MaxCellSize>
<LowCellSize Sync="TRUE">0.5</LowCellSize>
<HighCellSize Sync="TRUE">729</HighCellSize>
</Properties>
<Functions Sync="TRUE">
<Function Description="Performs on-the-fly mosaic on a raster catalog." Name="Mosaic Function"/>
</Functions>
</RasterProperties>
</DataProperties>
<SyncDate>20211109</SyncDate>
<SyncTime>20291700</SyncTime>
<ModDate>20211109</ModDate>
<ModTime>20291700</ModTime>
</Esri>
<mdLang>
<languageCode value="eng"/>
<countryCode Sync="TRUE" value="USA"/>
</mdLang>
<mdChar>
<CharSetCd value="004"/>
</mdChar>
<mdHrLv>
<ScopeCd value="005"/>
</mdHrLv>
<mdContact>
<rpIndName>Stuart Blankenship</rpIndName>
<rpOrgName>Virginia Geographic Information Network</rpOrgName>
<rpPosName>VBMP Project Manager</rpPosName>
<rpCntInfo>
<cntPhone>
<voiceNum>804-416-6208</voiceNum>
<faxNum>804-416-6353</faxNum>
</cntPhone>
<cntAddress addressType="both">
<delPoint>11751 Meadowville Lane</delPoint>
<city>Chester</city>
<adminArea>VA</adminArea>
<postCode>23836</postCode>
<country>US</country>
<eMailAdd>stuart.blankenship@vita.virginia.gov</eMailAdd>
</cntAddress>
<cntHours>8:00 AM - 5:00 PM EST</cntHours>
</rpCntInfo>
<role>
<RoleCd value="007"/>
</role>
</mdContact>
<mdStanName>ArcGIS Metadata</mdStanName>
<mdStanVer>1.0</mdStanVer>
<distInfo>
<distributor>
<distorCont>
<rpIndName>VGIN Coordinator</rpIndName>
<rpOrgName>Virginia Geographic Information Network</rpOrgName>
<rpPosName>VGIN Coordinator</rpPosName>
<rpCntInfo>
<cntPhone>
<voiceNum>804-416-6198</voiceNum>
</cntPhone>
<cntAddress addressType="both">
<delPoint>11751 Meadowville Lane</delPoint>
<city>Chester</city>
<adminArea>VA</adminArea>
<postCode>23836</postCode>
<country>US</country>
<eMailAdd>vbmp@vgin.virginia.gov</eMailAdd>
</cntAddress>
</rpCntInfo>
<role>
<RoleCd value="005"/>
</role>
</distorCont>
</distributor>
<distTranOps>
<onLineSrc>
<linkage>http://www.isp.virginia.gov/vbmporthophotography.shtml</linkage>
</onLineSrc>
</distTranOps>
</distInfo>
<dataIdInfo>
<idCitation>
<resTitle Sync="TRUE">COLOR_2009</resTitle>
<date>
<pubDate>2009-01-01</pubDate>
</date>
<citRespParty>
<rpOrgName>Virginia Geographic Information Network (VGIN)</rpOrgName>
<role>
<RoleCd value="006"/>
</role>
</citRespParty>
<citRespParty>
<rpOrgName>Virginia Geographic Information Network (VGIN)</rpOrgName>
<rpCntInfo>
<cntAddress>
<delPoint>Richmond, Virginia</delPoint>
</cntAddress>
</rpCntInfo>
<role>
<RoleCd value="010"/>
</role>
</citRespParty>
<presForm>
<PresFormCd value="005"/>
</presForm>
<presForm>
<fgdcGeoform>vector digital data</fgdcGeoform>
</presForm>
</idCitation>
<idAbs>In the spring of 2009, the Commonwealth of Virginia, through the Virginia Geographic Information Network Division (herein referred to as VGIN) of the Virginia Information Technologies Agency (VITA) contracted with the Sanborn Map Company to provide aerial data acquisition, ground control, aerial triangulation and development of statewide DTM and digital orthophotography data. The Virginia Base Mapping Program (VBMP) update project is divided into two collection phases: the Eastern half for Spring 2009 and the Western half for Spring 2011 with a 1,000' buffer to the state boundary. Ortho products are 1-foot resolution statewide ortho-imagery with upgrades to 6-inch resolution tiles and 3-inch resolution tiles in various regions within the project area. All data acquired in 2009 is jurisdiction based and is mostly in the eastern half of the state with upgrades requested in the western half of the state. The Virginia Base Mapping project encompasses the entire land area of the Commonwealth of Virginia over 4 years. The State boundary is buffered by 1000'. Coastal areas of the State bordering the Atlantic Ocean or the Chesapeake Bay are buffered by 1000' or the extent of man-made features extending from shore.</idAbs>
<idPurp>The collection of aerial photography, update of the DTM surface and production of orthophotography was executed to capture the existing ground conditions at a specific point in time for the purpose of GIS analysis. Orthophotography along with DTM data typically provides an accurate base for digitally representing geographic features upon which a GIS is built. The Virginia Geographic Information Network Division (VGIN) is the lead public agency in the Commonwealth for spatial data and GIS. VGIN's mission is to facilitate the cost-effective development and use of spatial data, GIS, and related technologies in organizations throughout the Commonwealth.</idPurp>
<idStatus>
<ProgCd value="001"/>
</idStatus>
<idPoC>
<rpIndName>Stuart Blankenship</rpIndName>
<rpOrgName>VGIN</rpOrgName>
<rpPosName>VBMP Project Manager</rpPosName>
<rpCntInfo>
<cntPhone>
<voiceNum>804-416-6208</voiceNum>
<faxNum>804-416-6353</faxNum>
</cntPhone>
<cntAddress addressType="both">
<delPoint>11751 Meadowville Lane</delPoint>
<city>Chester</city>
<adminArea>VA</adminArea>
<postCode>23836</postCode>
<country>US</country>
<eMailAdd>stuart.blankenship@vita.virginia.gov</eMailAdd>
</cntAddress>
<cntHours>8:00 AM - 5:00 PM EST</cntHours>
</rpCntInfo>
<role>
<RoleCd value="007"/>
</role>
</idPoC>
<resMaint>
<maintFreq>
<MaintFreqCd value="010"/>
</maintFreq>
</resMaint>
<placeKeys>
<keyword>Commonwealth of Virginia</keyword>
<keyword>Virginia</keyword>
<keyword>USA</keyword>
</placeKeys>
<themeKeys>
<keyword>raster</keyword>
<keyword>orthophotography</keyword>
<keyword>imagery</keyword>
</themeKeys>
<searchKeys>
<keyword>raster</keyword>
<keyword>orthophotography</keyword>
<keyword>Commonwealth of Virginia</keyword>
<keyword>Virginia</keyword>
<keyword>imagery</keyword>
<keyword>USA</keyword>
</searchKeys>
<resConst>
<LegConsts>
<useLimit>ALL DATA IS PROVIDED "AS IS." The Commonwealth of Virginia, the Virginia Geographic Information Network and their respective, officers, agents and employees jointly and severally disclaim any and all representations or warranties, express or implied, written or oral, in fact or arising by operation of law, including any warranties of merchantability, fitness for a particular purpose, ACCURACY, CURRENCY, commercial value, or freedom of data from infringement of any THIRD PARTY intellectual property rights.</useLimit>
<othConsts>Contact VGIN for information about regional and statewide VBMP datasets. For information about local datasets, contact the appropriate locality.</othConsts>
</LegConsts>
</resConst>
<resConst>
<Consts>
<useLimit>This VBMP data has been developed using procedures designed to produce data to National Standard for Spatial Data Accuracy (NSSDA) and is intended for use at 1" = 100' or 1" = 200' scale. It is requested that the Commonwealth of Virginia be cited for any use of the orthophotography as follows: "Imagery Courtesy of the Commonwealth of Virginia".</useLimit>
</Consts>
</resConst>
<spatRpType>
<SpatRepTypCd value="001"/>
</spatRpType>
<dataLang>
<languageCode value="eng"/>
<countryCode Sync="TRUE" value="USA"/>
</dataLang>
<tpCat>
<TopicCatCd value="010"/>
</tpCat>
<dataExt>
<geoEle>
<GeoBndBox>
<westBL>-78.665545</westBL>
<eastBL>-76.480951</eastBL>
<southBL>37.764913</southBL>
<northBL>39.327378</northBL>
</GeoBndBox>
</geoEle>
</dataExt>
<dataExt>
<exDesc>ground condition</exDesc>
<tempEle>
<TempExtent>
<exTemp>
<TM_Period>
<tmBegin>2009-02-01</tmBegin>
<tmEnd>2009-05-01</tmEnd>
</TM_Period>
</exTemp>
</TempExtent>
</tempEle>
<geoEle/>
</dataExt>
<suppInfo>The entire State was initially designed to support 1-foot resolution statewide ortho-imagery at 1"= 200' (1:2400) scale mapping. Jurisdictions throughout the State were provided an option to upgrade to 6-inch resolution tiles and 3-inch resolution at 1"=100' (1:1200) map scale. All digital ortho-imagery and development processes for the VBMP shall conform to the ASPRS Draft Aerial Photography Standards (1995) and Model Virginia Map Accuracy Standards (1992), which generally follow the ASPRS Accuracy Standard for Large-Scale Mapping (1990) for all imagery at the scales indicated except for the changes specified in this document. Accuracy will be tested and reported according to NSSDA Geospatial Positioning Accuracy Standards Part 3: National Standard for Spatial Data Accuracy Class 1.</suppInfo>
<envirDesc Sync="TRUE"> Version 6.2 (Build 9200) ; Esri ArcGIS 10.7.1.11595</envirDesc>
<dataExt>
<geoEle>
<GeoBndBox esriExtentType="search">
<exTypeCode Sync="TRUE">1</exTypeCode>
<westBL Sync="TRUE">-77.983601</westBL>
<eastBL Sync="TRUE">-77.308375</eastBL>
<northBL Sync="TRUE">39.335910</northBL>
<southBL Sync="TRUE">38.836886</southBL>
</GeoBndBox>
</geoEle>
</dataExt>
<idCredit/>
</dataIdInfo>
<dqInfo>
<dqScope>
<scpLvl>
<ScopeCd value="005"/>
</scpLvl>
</dqScope>
<report type="DQConcConsis">
<measDesc>No logical consistency tests were performed.</measDesc>
</report>
<report type="DQCompOm">
<measDesc>The project consisted of a total of approximately 20,000 total images in the Virginia North State Plane Zone for 1' = 200' and 1'=100' scale imagery.</measDesc>
</report>
<dataLineage>
<prcStep>
<stepDesc>The digital aerial imagery for the 1-foot resolution orthophotography was collected at an average flying height of 9350 feet above sea level with a DMC camera. The Ground control used to support the orthophotographic mapping was collected by either paneling of permanent monuments or photographic identification of strategic points. The coordinates were collected via ground survey techniques. Z/I ISAT software was utilized for the aerial triangulation phase, using high accuracy softcopy stereo plotters. A photogrammetric project was created, adding camera data, photo data, ground control point data and exterior orientation data. An interior orientation was performed for the project photos, automatic pass and tie measurements were executed and finalized with manual measurement of surveyed ground control. The final bundle adjustment was executed using Photo Triangulation (PhotoT) software. The 1-foot resolution or 1"=200' map data was segmented into 5,000' X 5,000' tiles and named according to they naming convention established and provide by VGIN. The DTM data was updated through photogrammetric stereo-compilation to North American Datum 1983; Virginia State Plane North or South Zone as applicable. All existing 2006 or 2007 DTM was updated and densified to a point spacing sufficient for producing orthos at the specified GSD and to generate accurate contours at the selected map scale. The DTM was updated using high accuracy stereo plotters and traditional manual photogrammetric techniques for collection of the breaklines and masspoints and delivered as Microstation v8 files. The bridges were coded uniquely and later delivered as a final ESRI geodatabase. Utilizing the raw images from DMC camera, DTM data, and digital aerial triangulation resulted in the creation of 4-band (RGB,CIR) digital orthoimagery. The geometric accuracy of the digital orthoimagery within each state plane coordinate zone will meet the Virginia Base Mapping standards for 1"=100' and 1"=200' scale mapping and reported according to the NSSDA standard at 95% confidence level Creation of 4-band (RGB,CIR) digital orthoimagery. The digital aerial imagery was rectified using the best algorithm, radiometrically balanced to produce digital imagery of nominally consistent tone and contrast and mosaiced to create a seamless orthophotography of the entire project area. The data was tiled and complete tiles were delivered as GeoTIFF with supplementary TFW files, as well as compressed JPG2000 files. The JPG200 files were compressed at a ratio of 5:1. Upon statewide acceptance of the DTM and Orthophotography the data is bundled and redelivered by jurisdiction.</stepDesc>
<stepDateTm>2009-01-01</stepDateTm>
</prcStep>
</dataLineage>
</dqInfo>
<spatRepInfo>
<VectSpatRep>
<geometObjs>
<geoObjTyp>
<GeoObjTypCd value="001"/>
</geoObjTyp>
<geoObjCnt>1</geoObjCnt>
</geometObjs>
</VectSpatRep>
<Georect>
<cellGeo>
<CellGeoCd Sync="TRUE" value="002"/>
</cellGeo>
<numDims Sync="TRUE">2</numDims>
<tranParaAv Sync="TRUE">1</tranParaAv>
<chkPtAv Sync="TRUE">0</chkPtAv>
<cornerPts>
<pos Sync="TRUE">11630000.000000 6990000.000000</pos>
</cornerPts>
<cornerPts>
<pos Sync="TRUE">11630000.000000 7170000.000000</pos>
</cornerPts>
<cornerPts>
<pos Sync="TRUE">11820000.000000 7170000.000000</pos>
</cornerPts>
<cornerPts>
<pos Sync="TRUE">11820000.000000 6990000.000000</pos>
</cornerPts>
<centerPt>
<pos Sync="TRUE">11725000.000000 7080000.000000</pos>
</centerPt>
<axisDimension type="002">
<dimSize Sync="TRUE">380000</dimSize>
<dimResol>
<value Sync="TRUE" uom="ftUS">0.500000</value>
</dimResol>
</axisDimension>
<axisDimension type="001">
<dimSize Sync="TRUE">360000</dimSize>
<dimResol>
<value Sync="TRUE" uom="ftUS">0.500000</value>
</dimResol>
</axisDimension>
<ptInPixel>
<PixOrientCd Sync="TRUE" value="001"/>
</ptInPixel>
</Georect>
</spatRepInfo>
<eainfo>
<detailed>
<enttyp>
<enttypl> Band 1</enttypl>
<enttypd>Red Band</enttypd>
</enttyp>
</detailed>
<detailed>
<enttyp>
<enttypl> Band 2</enttypl>
<enttypd>Green Band</enttypd>
</enttyp>
</detailed>
<detailed>
<enttyp>
<enttypl> Band 3</enttypl>
<enttypd>Blue Band</enttypd>
</enttyp>
</detailed>
<detailed>
<enttyp>
<enttypl> Band 4</enttypl>
<enttypd>NIR Band</enttypd>
</enttyp>
</detailed>
</eainfo>
<refSysInfo>
<RefSystem>
<refSysID>
<identCode Sync="TRUE" code="2924"/>
<idCodeSpace Sync="TRUE">EPSG</idCodeSpace>
<idVersion Sync="TRUE">8.9.3(9.0.0)</idVersion>
</refSysID>
</RefSystem>
</refSysInfo>
<contInfo>
<ImgDesc>
<contentTyp>
<ContentTypCd Sync="TRUE" value="001"/>
</contentTyp>
<covDim>
<Band>
<dimDescrp Sync="TRUE">Band_1</dimDescrp>
<maxVal Sync="TRUE">253.000000</maxVal>
<minVal Sync="TRUE">13.000000</minVal>
<bitsPerVal Sync="TRUE">8</bitsPerVal>
<valUnit>
<UOM type="length"/>
</valUnit>
</Band>
<Band>
<dimDescrp Sync="TRUE">Band_2</dimDescrp>
<maxVal Sync="TRUE">254.000000</maxVal>
<minVal Sync="TRUE">14.000000</minVal>
<bitsPerVal Sync="TRUE">8</bitsPerVal>
<valUnit>
<UOM type="length"/>
</valUnit>
</Band>
<Band>
<dimDescrp Sync="TRUE">Band_3</dimDescrp>
<maxVal Sync="TRUE">254.000000</maxVal>
<minVal Sync="TRUE">14.000000</minVal>
<bitsPerVal Sync="TRUE">8</bitsPerVal>
<valUnit>
<UOM type="length"/>
</valUnit>
</Band>
<Band>
<dimDescrp Sync="TRUE">Band_4</dimDescrp>
<maxVal Sync="TRUE">253.000000</maxVal>
<minVal Sync="TRUE">8.000000</minVal>
<bitsPerVal Sync="TRUE">8</bitsPerVal>
<valUnit>
<UOM type="length"/>
</valUnit>
</Band>
</covDim>
</ImgDesc>
</contInfo>
<mdDateSt Sync="TRUE">20211109</mdDateSt>
</metadata>
