{ "currentVersion": 10.91, "serviceDescription": "
Loudoun County has collected aerial imagery for many years. While imagery has been captured in digital format since the mid-2000s, prior years were captured with film cameras. Rolls of film from previous years were available at the County in film canisters, but unavailable for viewing on modern digital GIS systems. The County initiated a project to have these film rolls scanned into a digital format. The film was then processed using modern photogrammetric techniques to produce a digital orthomosaic of the County. Images from 1979, 1986, 1988, 1990-2007 were processed and delivered as tiled uncompressed GeoTIFF and MrSID mosaic formats. 1979, 1986, and 1988 were captured and produced as color (R,G,B) images, while the remainder were captured and produced as panchromatic (B/W) images. The MrSID mosaics use a 50:1 compression ratio. Approximate seamline locations containing the scan name attribute have also been provided. The aerial imagery generally encompasses the full land area of the County of Loudoun, VA. Images were flown in varying temporal and ground conditions and will exhibit some variation in tone, quality, and positional accuracy.<\/span><\/p><\/div>",
"name": "Aerial/B_W_1996",
"description": " Loudoun County has collected aerial imagery for many years. While imagery has been captured in digital format since the mid-2000s, prior years were captured with film cameras. Rolls of film from previous years were available at the County in film canisters, but unavailable for viewing on modern digital GIS systems. The County initiated a project to have these film rolls scanned into a digital format. The film was then processed using modern photogrammetric techniques to produce a digital orthomosaic of the County. Images from 1979, 1986, 1988, 1990-2007 were processed and delivered as tiled uncompressed GeoTIFF and MrSID mosaic formats. 1979, 1986, and 1988 were captured and produced as color (R,G,B) images, while the remainder were captured and produced as panchromatic (B/W) images. The MrSID mosaics use a 50:1 compression ratio. Approximate seamline locations containing the scan name attribute have also been provided. The aerial imagery generally encompasses the full land area of the County of Loudoun, VA. Images were flown in varying temporal and ground conditions and will exhibit some variation in tone, quality, and positional accuracy.<\/span><\/p><\/div>",
"extent": {
"xmin": 11630000,
"ymin": 6990000,
"xmax": 11820000,
"ymax": 7170000,
"spatialReference": {
"wkid": 2924,
"latestWkid": 2924
}
},
"initialExtent": {
"xmin": 11630000,
"ymin": 6990000,
"xmax": 11820000,
"ymax": 7170000,
"spatialReference": {
"wkid": 2924,
"latestWkid": 2924
}
},
"fullExtent": {
"xmin": 11630000,
"ymin": 6990000,
"xmax": 11820000,
"ymax": 7170000,
"spatialReference": {
"wkid": 2924,
"latestWkid": 2924
}
},
"hasMultidimensions": false,
"pixelSizeX": 1,
"pixelSizeY": 1,
"datasetFormat": "AMD",
"uncompressedSize": 34200000000,
"blockWidth": 2048,
"blockHeight": 256,
"compressionType": "None",
"bandNames": [
"Band_1"
],
"allowCopy": true,
"allowAnalysis": true,
"bandCount": 1,
"pixelType": "U8",
"minPixelSize": 0,
"maxPixelSize": 0,
"copyrightText": "\"Digital Orthophotography compiled by Sanborn Map Company, Inc. Colorado Springs, CO\"",
"serviceDataType": "esriImageServiceDataTypeGeneric",
"serviceSourceType": "esriImageServiceSourceTypeMosaicDataset",
"minValues": [
1
],
"maxValues": [
255
],
"meanValues": [
123.68924329494381
],
"stdvValues": [
38.18963656162548
],
"objectIdField": "OBJECTID",
"fields": [
{
"name": "OBJECTID",
"type": "esriFieldTypeOID",
"alias": "OBJECTID",
"domain": null
},
{
"name": "Name",
"type": "esriFieldTypeString",
"alias": "Name",
"domain": null,
"length": 200
},
{
"name": "MinPS",
"type": "esriFieldTypeDouble",
"alias": "MinPS",
"domain": null
},
{
"name": "MaxPS",
"type": "esriFieldTypeDouble",
"alias": "MaxPS",
"domain": null
},
{
"name": "LowPS",
"type": "esriFieldTypeDouble",
"alias": "LowPS",
"domain": null
},
{
"name": "HighPS",
"type": "esriFieldTypeDouble",
"alias": "HighPS",
"domain": null
},
{
"name": "Category",
"type": "esriFieldTypeInteger",
"alias": "Category",
"domain": {
"type": "codedValue",
"name": "MosaicCatalogItemCategoryDomain",
"description": "Catalog item categories.",
"codedValues": [
{
"name": "Unknown",
"code": 0
},
{
"name": "Primary",
"code": 1
},
{
"name": "Overview",
"code": 2
},
{
"name": "Unprocessed Overview",
"code": 3
},
{
"name": "Partial Overview",
"code": 4
},
{
"name": "Uploaded",
"code": 253
},
{
"name": "Incomplete",
"code": 254
},
{
"name": "Custom",
"code": 255
}
],
"mergePolicy": "esriMPTDefaultValue",
"splitPolicy": "esriSPTDefaultValue"
}
},
{
"name": "Tag",
"type": "esriFieldTypeString",
"alias": "Tag",
"domain": null,
"length": 100
},
{
"name": "GroupName",
"type": "esriFieldTypeString",
"alias": "GroupName",
"domain": null,
"length": 100
},
{
"name": "ProductName",
"type": "esriFieldTypeString",
"alias": "ProductName",
"domain": null,
"length": 100
},
{
"name": "CenterX",
"type": "esriFieldTypeDouble",
"alias": "CenterX",
"domain": null
},
{
"name": "CenterY",
"type": "esriFieldTypeDouble",
"alias": "CenterY",
"domain": null
},
{
"name": "ZOrder",
"type": "esriFieldTypeInteger",
"alias": "ZOrder",
"domain": null
},
{
"name": "Shape",
"type": "esriFieldTypeGeometry",
"alias": "Shape",
"domain": null
},
{
"name": "Shape.STArea()",
"type": "esriFieldTypeDouble",
"alias": "Shape.STArea()",
"domain": null
},
{
"name": "Shape.STLength()",
"type": "esriFieldTypeDouble",
"alias": "Shape.STLength()",
"domain": null
}
],
"capabilities": "Catalog,Image,Metadata",
"defaultMosaicMethod": "Northwest",
"allowedMosaicMethods": "NorthWest,Center,LockRaster,ByAttribute,Nadir,Viewpoint,Seamline,None",
"sortField": "",
"sortValue": null,
"sortAscending": true,
"mosaicOperator": "First",
"maxDownloadSizeLimit": 2048,
"defaultCompressionQuality": 75,
"defaultResamplingMethod": "Bilinear",
"maxImageHeight": 4100,
"maxImageWidth": 15000,
"maxRecordCount": 1000,
"maxDownloadImageCount": 20,
"maxMosaicImageCount": 20,
"allowRasterFunction": true,
"rasterFunctionInfos": [
{
"name": "None",
"description": "",
"help": ""
}
],
"rasterTypeInfos": [
{
"name": "Raster Dataset",
"description": "Supports all ArcGIS Raster Datasets",
"help": ""
}
],
"mensurationCapabilities": "None",
"hasHistograms": true,
"hasColormap": false,
"hasRasterAttributeTable": false,
"minScale": 0,
"maxScale": 0,
"exportTilesAllowed": false,
"supportsStatistics": true,
"supportsAdvancedQueries": true,
"editFieldsInfo": null,
"ownershipBasedAccessControlForRasters": null,
"allowComputeTiePoints": false,
"useStandardizedQueries": true,
"advancedQueryCapabilities": {
"useStandardizedQueries": true,
"supportsStatistics": true,
"supportsOrderBy": true,
"supportsDistinct": true,
"supportsPagination": true
},
"spatialReference": {
"wkid": 2924,
"latestWkid": 2924
}
}