<?xml version="1.0" encoding="UTF-8" standalone="no"?>
<metadata xml:lang="en">
<Esri>
<CreaDate>20170921</CreaDate>
<CreaTime>11443500</CreaTime>
<ArcGISFormat>1.0</ArcGISFormat>
<SyncOnce>FALSE</SyncOnce>
<DataProperties>
<lineage>
<Process Date="20170921" Time="114435" ToolSource="c:\program files (x86)\arcgis\desktop10.5\ArcToolbox\Toolboxes\Data Management Tools.tbx\CreateMosaicDataset">CreateMosaicDataset "Database Connections\gimage_gissqlclust01.sde" B_W_1957 "PROJCS['NAD_1983_HARN_StatePlane_Virginia_North_FIPS_4501_Feet',GEOGCS['GCS_North_American_1983_HARN',DATUM['D_North_American_1983_HARN',SPHEROID['GRS_1980',6378137.0,298.257222101]],PRIMEM['Greenwich',0.0],UNIT['Degree',0.0174532925199433]],PROJECTION['Lambert_Conformal_Conic'],PARAMETER['False_Easting',11482916.66666666],PARAMETER['False_Northing',6561666.666666666],PARAMETER['Central_Meridian',-78.5],PARAMETER['Standard_Parallel_1',38.03333333333333],PARAMETER['Standard_Parallel_2',39.2],PARAMETER['Latitude_Of_Origin',37.66666666666666],UNIT['Foot_US',0.3048006096012192]];-110512500 -88858000 36916142.964165;-100000 10000;-100000 10000;3.28083333333333E-03;0.001;0.001;IsHighPrecision" # # NONE #</Process>
<Process Date="20170921" Time="114623" ToolSource="c:\program files (x86)\arcgis\desktop10.5\ArcToolbox\Toolboxes\Data Management Tools.tbx\BuildFootprints">BuildFootprints "Database Connections\gimage_gissqlclust01.sde\GISIMAGE.GIMAGE.B_W_1957" # RADIOMETRY 2 255 80 0 NO_MAINTAIN_EDGES SKIP_DERIVED_IMAGES UPDATE_BOUNDARY 2000 100 NONE # 20 0.05</Process>
<Process Date="20170921" Time="114649" ToolSource="c:\program files (x86)\arcgis\desktop10.5\ArcToolbox\Toolboxes\Data Management Tools.tbx\BuildOverviews">BuildOverviews "Database Connections\gimage_gissqlclust01.sde\GISIMAGE.GIMAGE.B_W_1957" # DEFINE_MISSING_TILES GENERATE_OVERVIEWS GENERATE_MISSING_IMAGES REGENERATE_STALE_IMAGES</Process>
<Process Date="20170921" Time="114802" ToolSource="c:\program files (x86)\arcgis\desktop10.5\ArcToolbox\Toolboxes\Data Management Tools.tbx\AnalyzeMosaicDataset">AnalyzeMosaicDataset "Database Connections\gimage_gissqlclust01.sde\GISIMAGE.GIMAGE.B_W_1957" # FOOTPRINT;FUNCTION;RASTER;PATHS</Process>
<Process Date="20170921" Time="162528" ToolSource="c:\program files (x86)\arcgis\desktop10.5\ArcToolbox\Toolboxes\Data Management Tools.tbx\DefineOverviews">DefineOverviews "Database Connections\gimage_gissqlclust01.sde\GISIMAGE.GIMAGE.B_W_1957" # # "11635813.5984498 6992718.88606863 11815634.1619225 7166511.15197928" # # 5120 5120 3 FORCE_OVERVIEW_TILES BILINEAR JPEG 80</Process>
<Process Date="20170921" Time="163827" ToolSource="c:\program files (x86)\arcgis\desktop10.5\ArcToolbox\Toolboxes\Data Management Tools.tbx\BuildOverviews">BuildOverviews "Database Connections\gimage_gissqlclust01.sde\GISIMAGE.GIMAGE.B_W_1957" # DEFINE_MISSING_TILES GENERATE_OVERVIEWS GENERATE_MISSING_IMAGES REGENERATE_STALE_IMAGES</Process>
<Process Date="20170921" Time="165848" ToolSource="c:\program files (x86)\arcgis\desktop10.5\ArcToolbox\Toolboxes\Data Management Tools.tbx\CalculateStatistics">CalculateStatistics "Database Connections\gimage_gissqlclust01.sde\GISIMAGE.GIMAGE.B_W_1957" 1 1 # OVERWRITE "Feature Set"</Process>
</lineage>
<itemProps>
<itemName Sync="TRUE">GISIMAGE.GIMAGE.B_W_1957</itemName>
<itemLocation>
<linkage Sync="TRUE">Server=gissqldblis; Service=sde:sqlserver:gissqldblis; Database=GISIMAGE; User=gimage; Version=sde.DEFAULT</linkage>
<protocol Sync="TRUE">ArcSDE Connection</protocol>
</itemLocation>
<nativeExtBox>
<westBL Sync="TRUE">11635813.246787</westBL>
<eastBL Sync="TRUE">11815633.708337</eastBL>
<southBL Sync="TRUE">6992718.418322</southBL>
<northBL Sync="TRUE">7166510.576924</northBL>
<exTypeCode Sync="TRUE">1</exTypeCode>
</nativeExtBox>
</itemProps>
<coordRef>
<type Sync="TRUE">Projected</type>
<geogcsn Sync="TRUE">GCS_North_American_1983_HARN</geogcsn>
<csUnits Sync="TRUE">Linear Unit: Foot_US (0.304801)</csUnits>
<projcsn Sync="TRUE">NAD_1983_HARN_StatePlane_Virginia_North_FIPS_4501_Feet</projcsn>
<peXml Sync="TRUE">&lt;ProjectedCoordinateSystem xsi:type='typens:ProjectedCoordinateSystem' xmlns:xsi='http://www.w3.org/2001/XMLSchema-instance' xmlns:xs='http://www.w3.org/2001/XMLSchema' xmlns:typens='http://www.esri.com/schemas/ArcGIS/10.7'&gt;&lt;WKT&gt;PROJCS[&amp;quot;NAD_1983_HARN_StatePlane_Virginia_North_FIPS_4501_Feet&amp;quot;,GEOGCS[&amp;quot;GCS_North_American_1983_HARN&amp;quot;,DATUM[&amp;quot;D_North_American_1983_HARN&amp;quot;,SPHEROID[&amp;quot;GRS_1980&amp;quot;,6378137.0,298.257222101]],PRIMEM[&amp;quot;Greenwich&amp;quot;,0.0],UNIT[&amp;quot;Degree&amp;quot;,0.0174532925199433]],PROJECTION[&amp;quot;Lambert_Conformal_Conic&amp;quot;],PARAMETER[&amp;quot;False_Easting&amp;quot;,11482916.66666666],PARAMETER[&amp;quot;False_Northing&amp;quot;,6561666.666666666],PARAMETER[&amp;quot;Central_Meridian&amp;quot;,-78.5],PARAMETER[&amp;quot;Standard_Parallel_1&amp;quot;,38.03333333333333],PARAMETER[&amp;quot;Standard_Parallel_2&amp;quot;,39.2],PARAMETER[&amp;quot;Latitude_Of_Origin&amp;quot;,37.66666666666666],UNIT[&amp;quot;Foot_US&amp;quot;,0.3048006096012192],AUTHORITY[&amp;quot;EPSG&amp;quot;,2924]]&lt;/WKT&gt;&lt;XOrigin&gt;-110512500&lt;/XOrigin&gt;&lt;YOrigin&gt;-88858000&lt;/YOrigin&gt;&lt;XYScale&gt;36916142.964165002&lt;/XYScale&gt;&lt;ZOrigin&gt;-100000&lt;/ZOrigin&gt;&lt;ZScale&gt;10000&lt;/ZScale&gt;&lt;MOrigin&gt;-100000&lt;/MOrigin&gt;&lt;MScale&gt;10000&lt;/MScale&gt;&lt;XYTolerance&gt;0.0032808333333333331&lt;/XYTolerance&gt;&lt;ZTolerance&gt;0.001&lt;/ZTolerance&gt;&lt;MTolerance&gt;0.001&lt;/MTolerance&gt;&lt;HighPrecision&gt;true&lt;/HighPrecision&gt;&lt;WKID&gt;2924&lt;/WKID&gt;&lt;LatestWKID&gt;2924&lt;/LatestWKID&gt;&lt;/ProjectedCoordinateSystem&gt;</peXml>
</coordRef>
<RasterProperties>
<General>
<PixelDepth Sync="TRUE">8</PixelDepth>
<HasColormap Sync="TRUE">FALSE</HasColormap>
<CompressionType Sync="TRUE">None</CompressionType>
<NumBands Sync="TRUE">3</NumBands>
<Format Sync="TRUE">AMD</Format>
<HasPyramids Sync="TRUE">TRUE</HasPyramids>
<SourceType Sync="TRUE">continuous</SourceType>
<PixelType Sync="TRUE">unsigned integer</PixelType>
<NoDataValue Sync="TRUE"/>
</General>
<Properties>
<MaxImageHeight Sync="TRUE">4100</MaxImageHeight>
<MaxImageWidth Sync="TRUE">15000</MaxImageWidth>
<MaxRecordCount Sync="TRUE">1000</MaxRecordCount>
<MaxDownloadImageCount Sync="TRUE">20</MaxDownloadImageCount>
<MaxDownloadSizeLimit Sync="TRUE">2048</MaxDownloadSizeLimit>
<MaxMosaicImageCount Sync="TRUE">20</MaxMosaicImageCount>
<DefaultCompressionQuality Sync="TRUE">75</DefaultCompressionQuality>
<DefaultCompressionTolerance Sync="TRUE">0.01</DefaultCompressionTolerance>
<BlendWidth Sync="TRUE">10</BlendWidth>
<ViewpointSpacingX Sync="TRUE">600</ViewpointSpacingX>
<ViewpointSpacingY Sync="TRUE">300</ViewpointSpacingY>
<AllowedItemMetadata Sync="TRUE">Basic</AllowedItemMetadata>
<DefaultResamplingMethod Sync="TRUE">1</DefaultResamplingMethod>
<AllowedMosaicMethods Sync="TRUE">NorthWest,Center,LockRaster,ByAttribute,Nadir,Viewpoint,Seamline,None</AllowedMosaicMethods>
<AllowedCompressions Sync="TRUE">None,JPEG,LZ77,LERC</AllowedCompressions>
<AllowedMensurationCapabilities Sync="TRUE">None</AllowedMensurationCapabilities>
<AvailableMensurationCapabilities Sync="TRUE">None,Basic,Base-Top Height,Top-Top Shadow Height,Base-Top Shadow Height,3D</AvailableMensurationCapabilities>
<ClipToBoundary Sync="TRUE">-1</ClipToBoundary>
<FootprintMayContainNoData Sync="TRUE">-1</FootprintMayContainNoData>
<CellSizeTolerance Sync="TRUE">0.8</CellSizeTolerance>
<MinimumPixelContribution Sync="TRUE">1</MinimumPixelContribution>
<AvailableMosaicMethods Sync="TRUE">NorthWest,Center,LockRaster,ByAttribute,Nadir,Viewpoint,Seamline,None</AvailableMosaicMethods>
<AvailableCompressionMethods Sync="TRUE">None,JPEG,LZ77,LERC</AvailableCompressionMethods>
<AvailableItemMetadataLevels Sync="TRUE">None,Basic,Full</AvailableItemMetadataLevels>
<BandDefinitionKeyword Sync="TRUE">NONE</BandDefinitionKeyword>
<AllowedFields Sync="TRUE">Name,MinPS,MaxPS,LowPS,HighPS,Tag,GroupName,ProductName,CenterX,CenterY,ZOrder,Shape.STArea(),Shape.STLength()</AllowedFields>
<MaxCellSize Sync="TRUE">43953.196176</MaxCellSize>
<LowCellSize Sync="TRUE">3.05230529</LowCellSize>
<HighCellSize Sync="TRUE">879.06392352</HighCellSize>
<ClipToFootprint Sync="TRUE">-1</ClipToFootprint>
<ApplyColorCorrection Sync="TRUE">0</ApplyColorCorrection>
</Properties>
<Functions Sync="TRUE">
<Function Description="Performs on-the-fly mosaic on a raster catalog." Name="Mosaic Function"/>
</Functions>
</RasterProperties>
</DataProperties>
<SyncDate>20211109</SyncDate>
<SyncTime>20143200</SyncTime>
<ModDate>20211109</ModDate>
<ModTime>20143200</ModTime>
</Esri>
<mdLang>
<languageCode value="eng"/>
<countryCode Sync="TRUE" value="USA"/>
</mdLang>
<mdChar>
<CharSetCd value="004"/>
</mdChar>
<mdHrLv>
<ScopeCd value="005"/>
</mdHrLv>
<mdContact>
<rpOrgName>Loudoun County, VA, OMAGI</rpOrgName>
<rpPosName>Metadata Specialist</rpPosName>
<rpCntInfo>
<cntPhone>
<voiceNum>703.771.5778</voiceNum>
</cntPhone>
</rpCntInfo>
<role>
<RoleCd value="007"/>
</role>
</mdContact>
<mdStanName>ArcGIS Metadata</mdStanName>
<mdStanVer>1.0</mdStanVer>
<distInfo>
<distributor>
<distorCont>
<rpOrgName>Loudoun County, VA, OMAGI</rpOrgName>
<rpCntInfo>
<cntPhone>
<voiceNum>703.771.5778</voiceNum>
<faxNum>703.771.5075</faxNum>
</cntPhone>
<cntAddress addressType="both">
<delPoint>P.O. Box 7000</delPoint>
<delPoint>1 Harrison St. SE., 2nd Floor</delPoint>
<city>Leesburg</city>
<adminArea>VA</adminArea>
<postCode>20175</postCode>
<eMailAdd>mapping@loudoun.gov</eMailAdd>
</cntAddress>
<cntHours>8:0 - 5:00 EST, M-F</cntHours>
</rpCntInfo>
<role>
<RoleCd value="005"/>
</role>
</distorCont>
<distorOrdPrc>
<resFees>Custom order: $.50 per tile (4000 x 6000 ft area) per layer plus a $20.00 setup fee, $3.00 charge for mail shipment, Standard Countywide: $30.00 for countywide topography only , $40.00 for all countywide layers except topography, $50.00 for all countywide layers and topography.</resFees>
<ordInstr>Size limit: 640MB. Visit our website at: http://www.loudoun.gov/omagi/index.htm, click on "OMAGI Documents and Information." Our "Products &amp;amp; Services" link will lead you to order forms and lists of available data. Hardcopy maps may also be available; please contact the Mapping Office Public Information Counter for more information</ordInstr>
</distorOrdPrc>
<distorFormat>
<formatName>GeoTIFF 6.0</formatName>
<formatVer>GeoTIFF 6.0</formatVer>
<fileDecmTech>no compression applied</fileDecmTech>
</distorFormat>
<distorTran>
<onLineSrc>
<orDesc>1957 - 1958 Aerial Imagery</orDesc>
</onLineSrc>
</distorTran>
</distributor>
</distInfo>
<dataIdInfo>
<idCitation>
<resTitle Sync="TRUE">B_W_1957</resTitle>
<citRespParty>
<rpOrgName>Loudoun County, VA, Office of Mapping and Geographic Information (OMAGI)</rpOrgName>
<role>
<RoleCd value="006"/>
</role>
</citRespParty>
<presForm>
<PresFormCd Sync="TRUE" value="005"/>
</presForm>
</idCitation>
<idAbs>This data set contains the 1957 and 1958 aerial imagery for the majority of Loudoun County, VA. It is composed of United States Farm Service Agency (USDA FSA) hardcopy imagery, which were scanned, georeferenced, and mosaiced by Loudoun County OMAGI to produce digital representations. Individual images cover approximately 15000' by 15000'.</idAbs>
<idPurp>This aerial imagery project was coordinated by the Loudoun County OMAGI and the Loudoun County Department of Building and Development. The backdrop image was developed as a historical reference, and has potential for land use/land cover change research, environmental resource investigations, and other temporal change analysis.</idPurp>
<idCredit>1957/1958 Photography flown by United States Farm Service Agency</idCredit>
<idStatus>
<ProgCd value="001"/>
</idStatus>
<idPoC>
<rpOrgName>Loudoun County, VA, OMAGI</rpOrgName>
<rpPosName>Base Map Cartographer</rpPosName>
<rpCntInfo>
<cntPhone>
<voiceNum>703.771.5778</voiceNum>
<faxNum>703.771.5075</faxNum>
</cntPhone>
<cntAddress addressType="both">
<delPoint>P.O. Box 7000</delPoint>
<delPoint>1 Harrison St. S.E., 3rd Floor</delPoint>
<city>Leesburg</city>
<adminArea>VA</adminArea>
<postCode>20175</postCode>
<eMailAdd>mapping@loudoun.gov</eMailAdd>
</cntAddress>
<cntHours>8:00 - 5:00 EST, M-F</cntHours>
</rpCntInfo>
<role>
<RoleCd value="007"/>
</role>
</idPoC>
<resMaint>
<maintFreq>
<MaintFreqCd value="011"/>
</maintFreq>
</resMaint>
<placeKeys>
<keyword>County</keyword>
<keyword>Loudoun</keyword>
<keyword>Virginia</keyword>
</placeKeys>
<themeKeys>
<keyword>imageryBaseMapsEarthCover</keyword>
<thesaName>
<resTitle>ISO19115</resTitle>
</thesaName>
</themeKeys>
<themeKeys>
<keyword>Tourism</keyword>
<keyword>Recreation</keyword>
<keyword>Planimetric</keyword>
<keyword>Ground Transportation</keyword>
<keyword>Miscellaneous</keyword>
<keyword>Economic Development</keyword>
<keyword>Digital Orthophotography</keyword>
<keyword>Land Use</keyword>
<keyword>Infrastructure</keyword>
<keyword>Wetlands</keyword>
<keyword>Environment</keyword>
<keyword>Land Cover</keyword>
</themeKeys>
<searchKeys>
<keyword>County</keyword>
<keyword>Tourism</keyword>
<keyword>Recreation</keyword>
<keyword>Planimetric</keyword>
<keyword>Ground Transportation</keyword>
<keyword>Loudoun</keyword>
<keyword>Miscellaneous</keyword>
<keyword>Economic Development</keyword>
<keyword>Digital Orthophotography</keyword>
<keyword>Land Use</keyword>
<keyword>imageryBaseMapsEarthCover</keyword>
<keyword>Infrastructure</keyword>
<keyword>Wetlands</keyword>
<keyword>Environment</keyword>
<keyword>Land Cover</keyword>
<keyword>Virginia</keyword>
</searchKeys>
<resConst>
<LegConsts>
<useLimit>Every reasonable effort has been made to assure the accuracy of these data. Loudoun County, Virginia does not assume any liability arising from the use of these data. These data are provided without warranty of any kind, expressed or implied, including, but not limited to, the implied warranties of merchantability and fitness for a particular service. Reliance on these data is at the risk of the user.</useLimit>
</LegConsts>
</resConst>
<resConst>
<SecConsts>
<classSys>Not Available</classSys>
<handDesc>Not Available</handDesc>
</SecConsts>
</resConst>
<resConst>
<Consts>
<useLimit>These data were generated for use by Loudoun County and are available to the public. Acknowledgement of USDA FSA and Loudoun County would be appreciated in products derived from this data. Every reasonable effort has been made to assure the accuracy of these data. Loudoun County, Virginia does not assume any liability arising from the use of these data. These data are provided without warranty of any kind, expressed or implied, including, but not limited to, the implied warranties of merchantability and fitness for a particular service. Reliance on these data is at the risk of the user.</useLimit>
</Consts>
</resConst>
<dataLang>
<languageCode value="eng"/>
<countryCode Sync="TRUE" value="USA"/>
</dataLang>
<tpCat>
<TopicCatCd value="018"/>
</tpCat>
<tpCat>
<TopicCatCd value="007"/>
</tpCat>
<tpCat>
<TopicCatCd value="017"/>
</tpCat>
<tpCat>
<TopicCatCd value="010"/>
</tpCat>
<dataExt>
<geoEle>
<GeoBndBox>
<westBL>-77.966047</westBL>
<eastBL>-77.308375</eastBL>
<southBL>38.836886</southBL>
<northBL>39.335831</northBL>
</GeoBndBox>
</geoEle>
</dataExt>
<dataExt>
<exDesc>ground condition</exDesc>
<tempEle>
<TempExtent>
<exTemp>
<TM_Period>
<tmBegin>1021-19-57</tmBegin>
<tmEnd>0521-19-58</tmEnd>
</TM_Period>
</exTemp>
</TempExtent>
</tempEle>
<geoEle/>
</dataExt>
<suppInfo>Data are stored in the corporate ArcSDE Geodatabase as a raster feature class. SDE geotabase imagery is available in the County's GIS, whereas copies of source files are provided for public distribution. The coordinate system is Virginia State Plane (North), Zone 4501, datum NAD83 HARN.</suppInfo>
<envirDesc Sync="TRUE"> Version 6.2 (Build 9200) ; Esri ArcGIS 10.7.1.11595</envirDesc>
<spatRpType>
<SpatRepTypCd Sync="TRUE" value="002"/>
</spatRpType>
<dataExt>
<geoEle>
<GeoBndBox esriExtentType="search">
<exTypeCode Sync="TRUE">1</exTypeCode>
<westBL Sync="TRUE">-77.963136</westBL>
<eastBL Sync="TRUE">-77.323967</eastBL>
<northBL Sync="TRUE">39.326239</northBL>
<southBL Sync="TRUE">38.844503</southBL>
</GeoBndBox>
</geoEle>
</dataExt>
</dataIdInfo>
<mdConst>
<SecConsts>
<class>
<ClasscationCd value="001"/>
</class>
<classSys>Not availabe</classSys>
<handDesc>Not Available</handDesc>
</SecConsts>
</mdConst>
<mdConst>
<Consts>
<useLimit>This metadata reflects the source Geodatabase format and specific elements may not apply if your data is exported to SHP or DXF. User must be aware that changes to data schema occur during data export that may not be reflected in this metadata, which represents Loudoun County's corporate geodatabase. Acknowledgement of Loudoun County would be appreciated in the use of this metadata.</useLimit>
</Consts>
</mdConst>
<dqInfo>
<dqScope>
<scpLvl>
<ScopeCd value="005"/>
</scpLvl>
</dqScope>
<dataLineage>
<prcStep>
<stepDesc>1. Loudoun County scanned the contact prints using a HP scanjet 7400c. The images were scanned in grayscale to TIFF format at 600 dpi. 2. The digital image files were then georeferenced to the 2005 1' Panchromatic DO of the County. 3. The georeferenced files were mosaicked, using histogram matching techniques to correct color differences and improve the aesthetic quality of the data. 4. The mosaic is clipped according to a 50 foot buffer of the county. 5. The final mosaic is in TIFF format with an ESRI compatible world file.</stepDesc>
</prcStep>
<prcStep>
<stepDesc>Loudoun County obtained contact prints of the aerial photos flown by the United States Farm Service Agency in 1957 and 1958 that cover the county.</stepDesc>
<stepProc>
<rpOrgName>USDA FSA Aerial Photography Field Ofice</rpOrgName>
<rpCntInfo>
<cntPhone>
<voiceNum>801.975.3503</voiceNum>
<faxNum>801.975.3532</faxNum>
</cntPhone>
<cntAddress addressType="postal">
<delPoint>2222 West 2300 South</delPoint>
<city>Salt Lake City</city>
<adminArea>UT</adminArea>
<postCode>84119-2020</postCode>
<eMailAdd>apfo.sales@apfo.usda.gov</eMailAdd>
</cntAddress>
<cntHours>8:00 am - 4:30 pm EST, M - F</cntHours>
</rpCntInfo>
<role>
<RoleCd value="009"/>
</role>
</stepProc>
</prcStep>
<dataSource>
<srcCitatn>
<resTitle>QQ-01128 - Aerial Photography Services</resTitle>
<date>
<pubDate>0901-20-06</pubDate>
</date>
<citRespParty>
<rpOrgName>USDA FSA</rpOrgName>
<role>
<RoleCd value="006"/>
</role>
</citRespParty>
<otherCitDet>The United States Farm Services Agency produced black &amp; white, aerial photo contact prints from 1957 and 1958. Loudoun County obtained these contact prints in 2006 and scanned them at 600 dpi, grayscale using a HP scanjet 7400c.</otherCitDet>
</srcCitatn>
<srcExt>
<exDesc>ground condition</exDesc>
<tempEle>
<TempExtent>
<exTemp>
<TM_Period>
<tmBegin>1021-19-57</tmBegin>
<tmEnd>0521-19-58</tmEnd>
</TM_Period>
</exTemp>
</TempExtent>
</tempEle>
</srcExt>
</dataSource>
</dataLineage>
</dqInfo>
<eainfo>
<detailed>
<enttyp>
<enttypl>Band 1</enttypl>
<enttypd>Panchromatic 8-bit</enttypd>
<enttypds>Scanned from print</enttypds>
</enttyp>
</detailed>
</eainfo>
<refSysInfo>
<RefSystem>
<refSysID>
<identCode Sync="TRUE" code="2924"/>
<idCodeSpace Sync="TRUE">EPSG</idCodeSpace>
<idVersion Sync="TRUE">8.9.3(9.0.0)</idVersion>
</refSysID>
</RefSystem>
</refSysInfo>
<spatRepInfo>
<Georect>
<cellGeo>
<CellGeoCd Sync="TRUE" value="002"/>
</cellGeo>
<numDims Sync="TRUE">2</numDims>
<tranParaAv Sync="TRUE">1</tranParaAv>
<chkPtAv Sync="TRUE">0</chkPtAv>
<cornerPts>
<pos Sync="TRUE">11635813.246787 6992718.418322</pos>
</cornerPts>
<cornerPts>
<pos Sync="TRUE">11635813.246787 7166510.576924</pos>
</cornerPts>
<cornerPts>
<pos Sync="TRUE">11815633.708337 7166510.576924</pos>
</cornerPts>
<cornerPts>
<pos Sync="TRUE">11815633.708337 6992718.418322</pos>
</cornerPts>
<centerPt>
<pos Sync="TRUE">11725723.477562 7079614.497623</pos>
</centerPt>
<axisDimension type="002">
<dimSize Sync="TRUE">58913</dimSize>
<dimResol>
<value Sync="TRUE" uom="ftUS">3.052305</value>
</dimResol>
</axisDimension>
<axisDimension type="001">
<dimSize Sync="TRUE">56938</dimSize>
<dimResol>
<value Sync="TRUE" uom="ftUS">3.052305</value>
</dimResol>
</axisDimension>
<ptInPixel>
<PixOrientCd Sync="TRUE" value="001"/>
</ptInPixel>
</Georect>
</spatRepInfo>
<contInfo>
<ImgDesc>
<contentTyp>
<ContentTypCd Sync="TRUE" value="001"/>
</contentTyp>
<covDim>
<Band>
<dimDescrp Sync="TRUE">Band_1</dimDescrp>
<maxVal Sync="TRUE">209.000000</maxVal>
<minVal Sync="TRUE">0.000000</minVal>
<bitsPerVal Sync="TRUE">8</bitsPerVal>
<valUnit>
<UOM type="length"/>
</valUnit>
</Band>
<Band>
<dimDescrp Sync="TRUE">Band_2</dimDescrp>
<maxVal Sync="TRUE">209.000000</maxVal>
<minVal Sync="TRUE">0.000000</minVal>
<bitsPerVal Sync="TRUE">8</bitsPerVal>
<valUnit>
<UOM type="length"/>
</valUnit>
</Band>
<Band>
<dimDescrp Sync="TRUE">Band_3</dimDescrp>
<maxVal Sync="TRUE">209.000000</maxVal>
<minVal Sync="TRUE">0.000000</minVal>
<bitsPerVal Sync="TRUE">8</bitsPerVal>
<valUnit>
<UOM type="length"/>
</valUnit>
</Band>
</covDim>
</ImgDesc>
</contInfo>
<mdDateSt Sync="TRUE">20211109</mdDateSt>
</metadata>
