<?xml version="1.0" encoding="UTF-8" standalone="no"?>
<metadata xml:lang="en">
<Esri>
<CreaDate>20180126</CreaDate>
<CreaTime>14135100</CreaTime>
<ArcGISFormat>1.0</ArcGISFormat>
<ArcGISstyle>FGDC CSDGM Metadata</ArcGISstyle>
<SyncOnce>FALSE</SyncOnce>
<DataProperties>
<lineage>
<Process Date="20180126" Time="141351" ToolSource="c:\program files (x86)\arcgis\desktop10.5\ArcToolbox\Toolboxes\Data Management Tools.tbx\CreateMosaicDataset">CreateMosaicDataset "Database Connections\gimage_gissqlclust01.sde" B_W_1937 "PROJCS['NAD_1983_HARN_StatePlane_Virginia_North_FIPS_4501_Feet',GEOGCS['GCS_North_American_1983_HARN',DATUM['D_North_American_1983_HARN',SPHEROID['GRS_1980',6378137.0,298.257222101]],PRIMEM['Greenwich',0.0],UNIT['Degree',0.0174532925199433]],PROJECTION['Lambert_Conformal_Conic'],PARAMETER['False_Easting',11482916.66666666],PARAMETER['False_Northing',6561666.666666666],PARAMETER['Central_Meridian',-78.5],PARAMETER['Standard_Parallel_1',38.03333333333333],PARAMETER['Standard_Parallel_2',39.2],PARAMETER['Latitude_Of_Origin',37.66666666666666],UNIT['Foot_US',0.3048006096012192]];-110512500 -88858000 3048.00609601219;-100000 10000;-100000 10000;3.28083333333333E-03;0.001;0.001;IsHighPrecision" # # NONE #</Process>
<Process Date="20180126" Time="142731" ToolSource="c:\program files (x86)\arcgis\desktop10.5\ArcToolbox\Toolboxes\Data Management Tools.tbx\BuildOverviews">BuildOverviews "Database Connections\gimage_gissqlclust01.sde\GISIMAGE.GIMAGE.B_W_1937" # DEFINE_MISSING_TILES GENERATE_OVERVIEWS GENERATE_MISSING_IMAGES REGENERATE_STALE_IMAGES</Process>
<Process Date="20180126" Time="154611" ToolSource="c:\program files (x86)\arcgis\desktop10.5\ArcToolbox\Toolboxes\Data Management Tools.tbx\CalculateStatistics">CalculateStatistics "Database Connections\gimage_gissqlclust01.sde\GISIMAGE.GIMAGE.B_W_1937" 1 1 # OVERWRITE "Feature Set"</Process>
<Process Date="20180126" Time="155022" ToolSource="c:\program files (x86)\arcgis\desktop10.5\ArcToolbox\Toolboxes\Data Management Tools.tbx\AnalyzeMosaicDataset">AnalyzeMosaicDataset "Database Connections\gimage_gissqlclust01.sde\GISIMAGE.GIMAGE.B_W_1937" # FOOTPRINT;FUNCTION;RASTER;PATHS</Process>
</lineage>
<itemProps>
<itemName Sync="TRUE">GISIMAGE.GIMAGE.B_W_1937</itemName>
<itemLocation>
<linkage Sync="TRUE">Server=gissqldblis; Service=sde:sqlserver:gissqldblis; Database=GISIMAGE; User=gimage; Version=sde.DEFAULT</linkage>
<protocol Sync="TRUE">ArcSDE Connection</protocol>
</itemLocation>
<nativeExtBox>
<westBL Sync="TRUE">11629735.070028</westBL>
<eastBL Sync="TRUE">11819890.508577</eastBL>
<southBL Sync="TRUE">6987835.626189</southBL>
<northBL Sync="TRUE">7171222.454622</northBL>
<exTypeCode Sync="TRUE">1</exTypeCode>
</nativeExtBox>
<imsContentType>002</imsContentType>
</itemProps>
<coordRef>
<type Sync="TRUE">Projected</type>
<geogcsn Sync="TRUE">GCS_North_American_1983_HARN</geogcsn>
<csUnits Sync="TRUE">Linear Unit: Foot_US (0.304801)</csUnits>
<projcsn Sync="TRUE">NAD_1983_HARN_StatePlane_Virginia_North_FIPS_4501_Feet</projcsn>
<peXml Sync="TRUE">&lt;ProjectedCoordinateSystem xsi:type='typens:ProjectedCoordinateSystem' xmlns:xsi='http://www.w3.org/2001/XMLSchema-instance' xmlns:xs='http://www.w3.org/2001/XMLSchema' xmlns:typens='http://www.esri.com/schemas/ArcGIS/10.7'&gt;&lt;WKT&gt;PROJCS[&amp;quot;NAD_1983_HARN_StatePlane_Virginia_North_FIPS_4501_Feet&amp;quot;,GEOGCS[&amp;quot;GCS_North_American_1983_HARN&amp;quot;,DATUM[&amp;quot;D_North_American_1983_HARN&amp;quot;,SPHEROID[&amp;quot;GRS_1980&amp;quot;,6378137.0,298.257222101]],PRIMEM[&amp;quot;Greenwich&amp;quot;,0.0],UNIT[&amp;quot;Degree&amp;quot;,0.0174532925199433]],PROJECTION[&amp;quot;Lambert_Conformal_Conic&amp;quot;],PARAMETER[&amp;quot;False_Easting&amp;quot;,11482916.66666666],PARAMETER[&amp;quot;False_Northing&amp;quot;,6561666.666666666],PARAMETER[&amp;quot;Central_Meridian&amp;quot;,-78.5],PARAMETER[&amp;quot;Standard_Parallel_1&amp;quot;,38.03333333333333],PARAMETER[&amp;quot;Standard_Parallel_2&amp;quot;,39.2],PARAMETER[&amp;quot;Latitude_Of_Origin&amp;quot;,37.66666666666666],UNIT[&amp;quot;Foot_US&amp;quot;,0.3048006096012192],AUTHORITY[&amp;quot;EPSG&amp;quot;,2924]]&lt;/WKT&gt;&lt;XOrigin&gt;-110512500&lt;/XOrigin&gt;&lt;YOrigin&gt;-88858000&lt;/YOrigin&gt;&lt;XYScale&gt;36916142.964165002&lt;/XYScale&gt;&lt;ZOrigin&gt;-100000&lt;/ZOrigin&gt;&lt;ZScale&gt;10000&lt;/ZScale&gt;&lt;MOrigin&gt;-100000&lt;/MOrigin&gt;&lt;MScale&gt;10000&lt;/MScale&gt;&lt;XYTolerance&gt;0.0032808333333333331&lt;/XYTolerance&gt;&lt;ZTolerance&gt;0.001&lt;/ZTolerance&gt;&lt;MTolerance&gt;0.001&lt;/MTolerance&gt;&lt;HighPrecision&gt;true&lt;/HighPrecision&gt;&lt;WKID&gt;2924&lt;/WKID&gt;&lt;LatestWKID&gt;2924&lt;/LatestWKID&gt;&lt;/ProjectedCoordinateSystem&gt;</peXml>
</coordRef>
<RasterProperties>
<General>
<PixelDepth Sync="TRUE">16</PixelDepth>
<HasColormap Sync="TRUE">FALSE</HasColormap>
<CompressionType Sync="TRUE">None</CompressionType>
<NumBands Sync="TRUE">1</NumBands>
<Format Sync="TRUE">AMD</Format>
<HasPyramids Sync="TRUE">TRUE</HasPyramids>
<SourceType Sync="TRUE">continuous</SourceType>
<PixelType Sync="TRUE">unsigned integer</PixelType>
<NoDataValue Sync="TRUE"/>
</General>
<Properties>
<MaxImageHeight Sync="TRUE">4100</MaxImageHeight>
<MaxImageWidth Sync="TRUE">15000</MaxImageWidth>
<MaxRecordCount Sync="TRUE">1000</MaxRecordCount>
<MaxDownloadImageCount Sync="TRUE">20</MaxDownloadImageCount>
<MaxDownloadSizeLimit Sync="TRUE">2048</MaxDownloadSizeLimit>
<MaxMosaicImageCount Sync="TRUE">20</MaxMosaicImageCount>
<DefaultCompressionQuality Sync="TRUE">75</DefaultCompressionQuality>
<DefaultCompressionTolerance Sync="TRUE">0.01</DefaultCompressionTolerance>
<BlendWidth Sync="TRUE">10</BlendWidth>
<ViewpointSpacingX Sync="TRUE">600</ViewpointSpacingX>
<ViewpointSpacingY Sync="TRUE">300</ViewpointSpacingY>
<AllowedItemMetadata Sync="TRUE">Basic</AllowedItemMetadata>
<DefaultResamplingMethod Sync="TRUE">1</DefaultResamplingMethod>
<AllowedMosaicMethods Sync="TRUE">NorthWest,Center,LockRaster,ByAttribute,Nadir,Viewpoint,Seamline,None</AllowedMosaicMethods>
<AllowedCompressions Sync="TRUE">None,JPEG,LZ77,LERC</AllowedCompressions>
<AllowedMensurationCapabilities Sync="TRUE">None</AllowedMensurationCapabilities>
<AvailableMensurationCapabilities Sync="TRUE">None,Basic,Base-Top Height,Top-Top Shadow Height,Base-Top Shadow Height,3D</AvailableMensurationCapabilities>
<ClipToBoundary Sync="TRUE">-1</ClipToBoundary>
<FootprintMayContainNoData Sync="TRUE">-1</FootprintMayContainNoData>
<CellSizeTolerance Sync="TRUE">0.8</CellSizeTolerance>
<MinimumPixelContribution Sync="TRUE">1</MinimumPixelContribution>
<AvailableMosaicMethods Sync="TRUE">NorthWest,Center,LockRaster,ByAttribute,Nadir,Viewpoint,Seamline,None</AvailableMosaicMethods>
<AvailableCompressionMethods Sync="TRUE">None,JPEG,LZ77,LERC</AvailableCompressionMethods>
<AvailableItemMetadataLevels Sync="TRUE">None,Basic,Full</AvailableItemMetadataLevels>
<BandDefinitionKeyword Sync="TRUE">NONE</BandDefinitionKeyword>
<AllowedFields Sync="TRUE">Name,MinPS,MaxPS,LowPS,HighPS,Tag,GroupName,ProductName,CenterX,CenterY,ZOrder,Shape.STArea(),Shape.STLength()</AllowedFields>
<MaxCellSize Sync="TRUE">38436.4491597</MaxCellSize>
<LowCellSize Sync="TRUE">1.291966046</LowCellSize>
<HighCellSize Sync="TRUE">768.728983194</HighCellSize>
<ApplyColorCorrection Sync="TRUE">0</ApplyColorCorrection>
</Properties>
<Functions Sync="TRUE">
<Function Description="Performs on-the-fly mosaic on a raster catalog." Name="Mosaic Function"/>
</Functions>
</RasterProperties>
</DataProperties>
<SyncDate>20211109</SyncDate>
<SyncTime>20142200</SyncTime>
<ModDate>20211109</ModDate>
<ModTime>20142200</ModTime>
</Esri>
<mdLang>
<languageCode value="eng"/>
<countryCode Sync="TRUE" value="USA"/>
</mdLang>
<mdChar>
<CharSetCd value="004"/>
</mdChar>
<mdHrLv>
<ScopeCd value="005"/>
</mdHrLv>
<mdContact>
<rpOrgName>Loudoun County, VA, OMAGI</rpOrgName>
<rpPosName>Metadata Specialist</rpPosName>
<rpCntInfo>
<cntPhone>
<voiceNum>(703)771-5778</voiceNum>
<faxNum>(703)771-5075</faxNum>
</cntPhone>
<cntAddress addressType="both">
<delPoint>1 Harrison Street SE, 2nd Floor, mailstop 65</delPoint>
<city>Leesburg</city>
<adminArea>VA</adminArea>
<postCode>20175</postCode>
<eMailAdd>mapping@loudoun.gov</eMailAdd>
</cntAddress>
<cntHours>8:30-4:30 EST, M-F</cntHours>
</rpCntInfo>
<role>
<RoleCd value="007"/>
</role>
</mdContact>
<mdStanName>ArcGIS Metadata</mdStanName>
<mdStanVer>1.0</mdStanVer>
<distInfo>
<distributor>
<distorCont>
<rpOrgName>Loudoun County, VA, OMAGI</rpOrgName>
<rpPosName>Public Information Counter</rpPosName>
<rpCntInfo>
<cntPhone>
<voiceNum>(703)771-5778</voiceNum>
<faxNum>(703)771-5075</faxNum>
</cntPhone>
<cntAddress addressType="both">
<delPoint>1 Harrison Street SE, 2nd Floor, mailstop 65</delPoint>
<city>Leesburg</city>
<adminArea>VA</adminArea>
<postCode>20175</postCode>
<eMailAdd>mapping@loudoun.gov</eMailAdd>
</cntAddress>
</rpCntInfo>
<role>
<RoleCd value="005"/>
</role>
</distorCont>
<distorOrdPrc>
<resFees>Loudoun County distributes spatial data in ArcGIS coverage or shapefile format for the cost of reproduction. Countywide spatial datasets may be purchased for $21 per CD or $22 per DVD for up to 650 MB or 4.5 GB of data, respectively. There is a $10 surcharge to purchase countywide topography, and a $3 charge if the item is to be mailed. If the customer wants the data in DXF format and/or would like OMAGI to custom select specific geographic areas of the County, there is an additional $7 per 15 minute increment labor charge. Select aerial imagery is also available.</resFees>
<ordInstr>Size limit: 640MB. Visit our website at: http://www.loudoun.gov/omagi/index.htm, click on "OMAGI Documents and Information." Our "Products &amp; Services" link will lead you to order forms and lists of available data. Hardcopy maps may also be available; please contact the Mapping Office Public Information Counter for more information</ordInstr>
</distorOrdPrc>
</distributor>
<distTranOps>
<onLineSrc>
<linkage>http://www.loudoun.gov/Default.aspx?tabid=325</linkage>
</onLineSrc>
</distTranOps>
</distInfo>
<dataIdInfo>
<idCitation>
<resTitle Sync="TRUE">B_W_1937</resTitle>
<date>
<pubDate date="unknown"/>
</date>
<citRespParty>
<rpOrgName>United States Farm Service Agency (USDA FSA)</rpOrgName>
<role>
<RoleCd value="006"/>
</role>
</citRespParty>
<presForm>
<PresFormCd Sync="TRUE" value="005"/>
</presForm>
</idCitation>
<idAbs>This data set contains the 1937 aerial imagery for the majority of Loudoun County, VA. It is composed of United States Farm Service Agency (USDA FSA) hardcopy imagery, which were scanned, georeferenced, and mosaicked by Loudoun County OMAGI to produce digital representations. This aerial imagery is at a much larger scale than the County's other Historical Raster image (1957). There are only 200 photos that cover Loudoun County for the 37 imagery, as opposed to 700 for the 57.</idAbs>
<idPurp>This aerial imagery project was coordinated by the Loudoun County OMAGI. The backdrop image was developed as a historical reference, and has potential for land use/land cover change research, environmental resource investigations, and other temporal change analysis.</idPurp>
<idStatus>
<ProgCd value="001"/>
</idStatus>
<idPoC>
<rpOrgName>Loudoun County Office of Mapping and Geographic Information (OMAGI)</rpOrgName>
<rpCntInfo>
<cntPhone>
<voiceNum>703-771-5778</voiceNum>
<faxNum>703-771-5075</faxNum>
</cntPhone>
<cntAddress addressType="both">
<delPoint>1 Harrison Street, S.E., 2nd Floor</delPoint>
<delPoint>MS 65</delPoint>
<city>Leesburg</city>
<adminArea>VA</adminArea>
<postCode>20175</postCode>
<country>US</country>
<eMailAdd>mapping@loudoun.gov</eMailAdd>
</cntAddress>
<cntHours>Monday - Friday 8:30 - 4:30 EST</cntHours>
</rpCntInfo>
<role>
<RoleCd value="007"/>
</role>
</idPoC>
<resMaint>
<maintFreq>
<MaintFreqCd value="011"/>
</maintFreq>
</resMaint>
<placeKeys>
<keyword>Loudoun</keyword>
<keyword>County</keyword>
<keyword>Virginia</keyword>
</placeKeys>
<themeKeys>
<keyword>imageryBaseMapsEarthCover</keyword>
<thesaName>
<resTitle>ESRI ArcIMS Topic Categories</resTitle>
</thesaName>
</themeKeys>
<themeKeys>
<keyword>Digital Orthophotography</keyword>
</themeKeys>
<searchKeys>
<keyword>Loudoun</keyword>
<keyword>County</keyword>
<keyword>Virginia</keyword>
<keyword>Digital Orthophotography</keyword>
<keyword>imageryBaseMapsEarthCover</keyword>
</searchKeys>
<resConst>
<LegConsts>
<useLimit>Every reasonable effort has been made to assure the accuracy of these data. Loudoun County, Virginia does not assume any liability arising from the use of these data. These data are provided without warranty of any kind, either expressed or implied, including, but not limited to, the implied warranties of merchantability and fitness for a particular service. Reliance on these data is at the risk of the user.</useLimit>
</LegConsts>
</resConst>
<resConst>
<Consts>
<useLimit>To properly view the aerial image the following protocal must be followed. Load raster file to mxd &gt; right click on layer &gt; navigate to properties &gt; select symbology tab &gt; select background. This will remove the black background that initially appears upon loading the image.</useLimit>
</Consts>
</resConst>
<dataLang>
<languageCode value="eng"/>
<countryCode Sync="TRUE" value="USA"/>
</dataLang>
<tpCat>
<TopicCatCd value="010"/>
</tpCat>
<dataExt>
<exDesc>ground condition</exDesc>
<tempEle>
<TempExtent>
<exTemp>
<TM_Instant>
<tmPosition time="unknown">1937-01-01</tmPosition>
</TM_Instant>
</exTemp>
</TempExtent>
</tempEle>
<geoEle/>
</dataExt>
<suppInfo>Data are stored in the corporate ArcSDE Geodatabase as a raster feature class. SDE geotabase imagery is available in the County's GIS, whereas copies of source files are provided for public distribution. The coordinate system is Virginia State Plane (North), Zone 4501, datum NAD83 HARN.</suppInfo>
<envirDesc Sync="TRUE"> Version 6.2 (Build 9200) ; Esri ArcGIS 10.7.1.11595</envirDesc>
<spatRpType>
<SpatRepTypCd Sync="TRUE" value="002"/>
</spatRpType>
<dataExt>
<geoEle>
<GeoBndBox esriExtentType="search">
<exTypeCode Sync="TRUE">1</exTypeCode>
<westBL Sync="TRUE">-77.984574</westBL>
<eastBL Sync="TRUE">-77.308706</eastBL>
<northBL Sync="TRUE">39.339271</northBL>
<southBL Sync="TRUE">38.830948</southBL>
</GeoBndBox>
</geoEle>
</dataExt>
<idCredit/>
</dataIdInfo>
<dqInfo>
<dqScope>
<scpLvl>
<ScopeCd value="005"/>
</scpLvl>
</dqScope>
<dataLineage>
<prcStep>
<stepDesc>The aerial phtotographs provided to the Office of Mapping and Geographic Information were scanned at 1200dpi and saved individually as tiff files. The scanned aerial photographs were then georeferenced. The georeferenced aerial photographs were then processed to create a seamless mosaic.</stepDesc>
<stepProc>
<rpIndName>Matthew Shaffer</rpIndName>
<rpOrgName>OMAGI</rpOrgName>
<rpPosName>GIS Specialist II</rpPosName>
<rpCntInfo>
<cntPhone>
<voiceNum>(703)771-5541</voiceNum>
<faxNum>(703)771-5075</faxNum>
</cntPhone>
<cntAddress>
<eMailAdd>matthew.shaffer@loudoun.gov</eMailAdd>
</cntAddress>
</rpCntInfo>
<role>
<RoleCd value="009"/>
</role>
</stepProc>
</prcStep>
</dataLineage>
</dqInfo>
<eainfo>
<detailed Name="GISRASTER.GRSTR.SDE_VAT_13">
<enttyp>
<enttypl Sync="TRUE">GISRASTER.GRSTR.SDE_VAT_13</enttypl>
<enttypt Sync="TRUE">Table</enttypt>
<enttypc Sync="TRUE">256</enttypc>
</enttyp>
<attr>
<attrlabl>ObjectID</attrlabl>
<attrdef>Internal feature number.</attrdef>
<attrdefs>ESRI</attrdefs>
<attrdomv>
<udom>Sequential unique whole numbers that are automatically generated.</udom>
</attrdomv>
<attalias Sync="TRUE">OBJECTID</attalias>
<attrtype Sync="TRUE">OID</attrtype>
<attwidth Sync="TRUE">4</attwidth>
<atprecis Sync="TRUE">10</atprecis>
<attscale Sync="TRUE">0</attscale>
</attr>
<attr>
<attrlabl>Value</attrlabl>
<attalias Sync="TRUE">Value</attalias>
<attrtype Sync="TRUE">Integer</attrtype>
<attwidth Sync="TRUE">4</attwidth>
<atprecis Sync="TRUE">10</atprecis>
<attscale Sync="TRUE">0</attscale>
</attr>
<attr>
<attrlabl Sync="TRUE">Count</attrlabl>
<attalias Sync="TRUE">Count</attalias>
<attrtype Sync="TRUE">Double</attrtype>
<attwidth Sync="TRUE">8</attwidth>
<atprecis Sync="TRUE">38</atprecis>
<attscale Sync="TRUE">8</attscale>
</attr>
</detailed>
</eainfo>
<refSysInfo>
<RefSystem>
<refSysID>
<identCode Sync="TRUE" code="2924"/>
<idCodeSpace Sync="TRUE">EPSG</idCodeSpace>
<idVersion Sync="TRUE">8.9.3(9.0.0)</idVersion>
</refSysID>
</RefSystem>
</refSysInfo>
<spatRepInfo>
<Georect>
<cellGeo>
<CellGeoCd Sync="TRUE" value="002"/>
</cellGeo>
<numDims Sync="TRUE">2</numDims>
<tranParaAv Sync="TRUE">1</tranParaAv>
<chkPtAv Sync="TRUE">0</chkPtAv>
<cornerPts>
<pos Sync="TRUE">11629735.070028 6987835.626189</pos>
</cornerPts>
<cornerPts>
<pos Sync="TRUE">11629735.070028 7171222.454622</pos>
</cornerPts>
<cornerPts>
<pos Sync="TRUE">11819890.508577 7171222.454622</pos>
</cornerPts>
<cornerPts>
<pos Sync="TRUE">11819890.508577 6987835.626189</pos>
</cornerPts>
<centerPt>
<pos Sync="TRUE">11724812.789302 7079529.040406</pos>
</centerPt>
<axisDimension type="002">
<dimSize Sync="TRUE">147183</dimSize>
<dimResol>
<value Sync="TRUE" uom="ftUS">1.291966</value>
</dimResol>
</axisDimension>
<axisDimension type="001">
<dimSize Sync="TRUE">141944</dimSize>
<dimResol>
<value Sync="TRUE" uom="ftUS">1.291966</value>
</dimResol>
</axisDimension>
<ptInPixel>
<PixOrientCd Sync="TRUE" value="001"/>
</ptInPixel>
</Georect>
</spatRepInfo>
<contInfo>
<ImgDesc>
<contentTyp>
<ContentTypCd Sync="TRUE" value="001"/>
</contentTyp>
<covDim>
<Band>
<dimDescrp Sync="TRUE">Band_1</dimDescrp>
<maxVal Sync="TRUE">255.000000</maxVal>
<minVal Sync="TRUE">0.000000</minVal>
<bitsPerVal Sync="TRUE">16</bitsPerVal>
<valUnit>
<UOM type="length"/>
</valUnit>
</Band>
</covDim>
</ImgDesc>
</contInfo>
<mdDateSt Sync="TRUE">20211109</mdDateSt>
</metadata>
